BEGIN:VCALENDAR
VERSION:2.0
PRODID:-//Bethlehem City Democratic Committee - ECPv6.15.20//NONSGML v1.0//EN
CALSCALE:GREGORIAN
METHOD:PUBLISH
X-ORIGINAL-URL:https://www.bethlehempadems.com
X-WR-CALDESC:Events for Bethlehem City Democratic Committee
REFRESH-INTERVAL;VALUE=DURATION:PT1H
X-Robots-Tag:noindex
X-PUBLISHED-TTL:PT1H
BEGIN:VTIMEZONE
TZID:America/New_York
BEGIN:DAYLIGHT
TZOFFSETFROM:-0500
TZOFFSETTO:-0400
TZNAME:EDT
DTSTART:20180311T070000
END:DAYLIGHT
BEGIN:STANDARD
TZOFFSETFROM:-0400
TZOFFSETTO:-0500
TZNAME:EST
DTSTART:20181104T060000
END:STANDARD
BEGIN:DAYLIGHT
TZOFFSETFROM:-0500
TZOFFSETTO:-0400
TZNAME:EDT
DTSTART:20190310T070000
END:DAYLIGHT
BEGIN:STANDARD
TZOFFSETFROM:-0400
TZOFFSETTO:-0500
TZNAME:EST
DTSTART:20191103T060000
END:STANDARD
BEGIN:DAYLIGHT
TZOFFSETFROM:-0500
TZOFFSETTO:-0400
TZNAME:EDT
DTSTART:20200308T070000
END:DAYLIGHT
BEGIN:STANDARD
TZOFFSETFROM:-0400
TZOFFSETTO:-0500
TZNAME:EST
DTSTART:20201101T060000
END:STANDARD
BEGIN:DAYLIGHT
TZOFFSETFROM:-0500
TZOFFSETTO:-0400
TZNAME:EDT
DTSTART:20210314T070000
END:DAYLIGHT
BEGIN:STANDARD
TZOFFSETFROM:-0400
TZOFFSETTO:-0500
TZNAME:EST
DTSTART:20211107T060000
END:STANDARD
BEGIN:DAYLIGHT
TZOFFSETFROM:-0500
TZOFFSETTO:-0400
TZNAME:EDT
DTSTART:20220313T070000
END:DAYLIGHT
BEGIN:STANDARD
TZOFFSETFROM:-0400
TZOFFSETTO:-0500
TZNAME:EST
DTSTART:20221106T060000
END:STANDARD
BEGIN:DAYLIGHT
TZOFFSETFROM:-0500
TZOFFSETTO:-0400
TZNAME:EDT
DTSTART:20230312T070000
END:DAYLIGHT
BEGIN:STANDARD
TZOFFSETFROM:-0400
TZOFFSETTO:-0500
TZNAME:EST
DTSTART:20231105T060000
END:STANDARD
END:VTIMEZONE
BEGIN:VEVENT
DTSTART;TZID=America/New_York:20220912T190000
DTEND;TZID=America/New_York:20220912T203000
DTSTAMP:20260424T072147
CREATED:20220901T154020Z
LAST-MODIFIED:20220906T142252Z
UID:1405-1663009200-1663014600@www.bethlehempadems.com
SUMMARY:BCDC Monthly Meeting (September 2022)
DESCRIPTION:Our September 2022 meeting will again be on the South Side! Thanks to Northampton County Community College\, we will continue to meet at the NCC Fowler Center on 3rd Street\, Room 114 (full address below). \nLight refreshments and soft drinks will be available\, so stop by a little early if you like to grab refreshments before the meeting starts. \nA proper Zoom link for this meeting will be sent to everyone on our mailing list about a week prior to the meeting. We are now fully “hybrid” so Zoom viewers will be able to participate at the meeting. (If you didn’t receive the mailing\, and would like to attend via Zoom\, please text Mark Moss at least 2 hours prior to the meeting for the link. 610-533-4506) \nMinutes\, financials and an agenda will also be mailed to everyone on the mailing list. Or you can access them here: \nSeptember Meeting Agenda\nAugust Meeting Minutes\nAugust 2022 Financial Report
URL:https://www.bethlehempadems.com/event/bcdc-monthly-meeting-september-2022/
LOCATION:NCC Fowler Center\, 511 E 3rd St\, Bethlehem\, PA\, 18015\, United States
CATEGORIES:Monthly Committee Meetings
ATTACH;FMTTYPE=image/jpeg:https://www.bethlehempadems.com/wp-content/uploads/2022/06/ncc-fowler-center.jpg
END:VEVENT
BEGIN:VEVENT
DTSTART;TZID=America/New_York:20220815T190000
DTEND;TZID=America/New_York:20220815T203000
DTSTAMP:20260424T072147
CREATED:20220727T033935Z
LAST-MODIFIED:20220802T150452Z
UID:1394-1660590000-1660595400@www.bethlehempadems.com
SUMMARY:BCDC Monthly Meeting (August 2022)
DESCRIPTION:NOTE: We have changed the date for this meeting to avoid conflicts with MusikFest. We’ll return to 2nd Mondays in September.  \nOur August 2022 meeting will again be on the South Side! Thanks to Northampton County Community College\, we will continue to meet at the NCC Fowler Center on 3rd Street\, Room 114 (full address below). \nLight refreshments and soft drinks will be available\, so stop by a little early if you like to grab refreshments before the meeting starts. \nWatch this space for details about a proper Zoom link for this meeting\, while we acclimate to our new space. Our plan is to allow for a full link that will allow for remote viewing AND participation due to better resources available at the new meeting space … stay tuned. \nUseful materials for the meeting will be posted SHORTLY.
URL:https://www.bethlehempadems.com/event/bcdc-monthly-meeting-august-2022/
LOCATION:NCC Fowler Center\, 511 E 3rd St\, Bethlehem\, PA\, 18015\, United States
CATEGORIES:Monthly Committee Meetings
ATTACH;FMTTYPE=image/jpeg:https://www.bethlehempadems.com/wp-content/uploads/2022/06/ncc-fowler-center.jpg
END:VEVENT
BEGIN:VEVENT
DTSTART;TZID=America/New_York:20220711T190000
DTEND;TZID=America/New_York:20220711T203000
DTSTAMP:20260424T072147
CREATED:20220628T160016Z
LAST-MODIFIED:20220707T170626Z
UID:1365-1657566000-1657571400@www.bethlehempadems.com
SUMMARY:BCDC Monthly Meeting (July 2022)
DESCRIPTION:We are MOVING!! Beginning with our July 2022 meeting\, we will be moving our monthly meetings to the South Side! Thanks to Northampton County Community College\, we are now meeting at the NCC Fowler Center on 3rd Street\, Room 114 (full address below). \nLight refreshments and soft drinks will be available\, so stop by a little early if you like to grab refreshments before the meeting starts. \nThere will be NO Zoom link for this meeting\, while we acclimate to our new space. We hope to be able to improve our “remote” meeting capabilities in the near future because of additional resources available at the new facility … stay tuned. \nUseful materials for the meeting: \nJuly Meeting Agenda\nEnd of June Financial Report from the Treasurer\nJune Meeting Minutes from the Secretary
URL:https://www.bethlehempadems.com/event/bcdc-monthly-meeting-july-2022/
LOCATION:NCC Fowler Center\, 511 E 3rd St\, Bethlehem\, PA\, 18015\, United States
CATEGORIES:Monthly Committee Meetings
ATTACH;FMTTYPE=image/jpeg:https://www.bethlehempadems.com/wp-content/uploads/2022/06/ncc-fowler-center.jpg
END:VEVENT
BEGIN:VEVENT
DTSTART;TZID=America/New_York:20220621T190000
DTEND;TZID=America/New_York:20220621T203000
DTSTAMP:20260424T072147
CREATED:20220610T174751Z
LAST-MODIFIED:20220615T235956Z
UID:1354-1655838000-1655843400@www.bethlehempadems.com
SUMMARY:!!BCDC 2022 Reorganization Meeting!! (June 2022)
DESCRIPTION:The focus of this month’s meeting is COMMITTEE REORGANIZATION! We’ll be welcoming newly elected Precinct Committeepersons (PCPs)\, who will vote for the next Executive Board. This meeting had to be rescheduled due to delayed certification by the counties (and then availability of our meeting space)\, thus the non-typical Tuesday date for the meeting. \n***Voting members (elected PCPs) are strongly encouraged to attend*** Any elected PCPs who are unable to attend\, may send a Proxy to participate in the election. Proxies must bring a simple signed letter (including a signature from the elected PCP and the proxy). All proxies must ALSO reside in the voting precinct represented by the elected PCP. If you have ANY questions or concerns\, please feel free to reach out to the current eBoard by writing bethlehemdems@gmail.com or calling Mark Moss (our treasurer) at 610-533-4506. \nThe agenda for the meeting includes some important notes about how the election must be run\, who is entitled to vote\, and how nominations will be accepted. You’re encouraged to view that document HERE in advance of the meeting. \nRefreshments will be provided\, and all attendees are welcome to bring a snack to share. \nThe floor will be opened for comments from any candidates and elected officials in attendance. Elected PCPs \nIf you’re unable to attend and interested in observing the meeting via Zoom\, please email bethlehemdems@gmail.com. \nNOTE: We’ll return to our regular “2nd Monday” meeting schedule starting in July!
URL:https://www.bethlehempadems.com/event/bcdc-reorg-meeting-june-2022/
LOCATION:United Steelworkers Union Hall\, 53 E. Lehigh St\,\, Bethlehem\, PA\, 18018\, United States
CATEGORIES:Monthly Committee Meetings
ATTACH;FMTTYPE=image/jpeg:https://www.bethlehempadems.com/wp-content/uploads/2019/10/steelworkers-hall-bethlehem.jpg
END:VEVENT
BEGIN:VEVENT
DTSTART;TZID=America/New_York:20220411T190000
DTEND;TZID=America/New_York:20220411T203000
DTSTAMP:20260424T072147
CREATED:20220318T175045Z
LAST-MODIFIED:20220404T231934Z
UID:1308-1649703600-1649709000@www.bethlehempadems.com
SUMMARY:BCDC Monthly Meeting (April 2022)
DESCRIPTION:Exciting news! Per our discussion and vote at the March Meeting\, we’re returning to in-person meetings starting in April … and moving to the United Steelworkers Hall in Bethlehem\, where we have a large open space with high ceilings so we can still maintain a good level of social distancing. Masks are recommended\, and attendees are urged to be up to date on their vaccines. \nWe will be celebrating our return to face-to-face with some free pizza and drinks (beer & soda)\, so stop by a little early if you like to grab refreshments before the meeting starts.  \nWe will also be broadcasting the meeting via ZOOM for anyone who is still concerned about in-person meetings … if you’d like to attend that way\, just click HERE to send an email request\, and we’ll send you the zoom link right back via email so you can access the Zoom meeting around 7pm that evening. (Unfortunately\, this option will be “view only” … there will not be a way to participate via zoom at this time.)
URL:https://www.bethlehempadems.com/event/bcdc-monthly-meeting-april-2022/
LOCATION:United Steelworkers Union Hall\, 53 E. Lehigh St\,\, Bethlehem\, PA\, 18018\, United States
CATEGORIES:Monthly Committee Meetings
ATTACH;FMTTYPE=image/jpeg:https://www.bethlehempadems.com/wp-content/uploads/2019/10/steelworkers-hall-bethlehem.jpg
END:VEVENT
BEGIN:VEVENT
DTSTART;TZID=America/New_York:20220314T190000
DTEND;TZID=America/New_York:20220314T203000
DTSTAMP:20260424T072147
CREATED:20220224T172837Z
LAST-MODIFIED:20220827T141613Z
UID:1257-1647284400-1647289800@www.bethlehempadems.com
SUMMARY:BCDC Monthly ZOOM Meeting (March 2022)
DESCRIPTION:This will be a VIRTUAL meeting via ZOOM … if you’d like to attend\, you’ll need to register in advance using Eventbrite. (Just click the link.) \nPLEASE NOTE: Despite our interest in returning to in-person meetings (and our vote to do so during our August monthly meeting)\, the spike in COVID infections in the area (and increasing hospitalizations here as well)\, forced the exec committee to continue with these Zoom meetings. We look forward to seeing you all in person when it’s safe (and smart). In the meantime\, we urge you ALL to consider getting vaccinated AND boosted … and abiding by the CDC’s recommendations to stop the spread and mutation of the virus.
URL:https://www.bethlehempadems.com/event/bcdc-monthly-zoom-meeting-march-2022/
LOCATION:Grover Cleveland Democratic Assoc.\, 904 Main St\, Bethlehem\, PA\, 18018\, United States
CATEGORIES:Monthly Committee Meetings
ATTACH;FMTTYPE=image/jpeg:https://www.bethlehempadems.com/wp-content/uploads/2020/01/zoom.jpg
END:VEVENT
BEGIN:VEVENT
DTSTART;TZID=America/New_York:20220214T190000
DTEND;TZID=America/New_York:20220214T203000
DTSTAMP:20260424T072147
CREATED:20220124T214149Z
LAST-MODIFIED:20220130T195700Z
UID:1237-1644865200-1644870600@www.bethlehempadems.com
SUMMARY:BCDC Monthly ZOOM Meeting (February 2022)
DESCRIPTION:This will be a VIRTUAL meeting via ZOOM … if you’d like to attend\, you’ll need to register in advance using Eventbrite. (Just click the link.) \nPLEASE NOTE: Despite our interest in returning to in-person meetings (and our vote to do so during our August monthly meeting)\, the spike in COVID infections in the area (and increasing hospitalizations here as well)\, forced the exec committee to continue with these Zoom meetings. We look forward to seeing you all in person when it’s safe (and smart). In the meantime\, we urge you ALL to consider getting vaccinated AND boosted … and abiding by the CDC’s recommendations to stop the spread and mutation of the virus.
URL:https://www.bethlehempadems.com/event/bcdc-monthly-zoom-meeting-february-2022/
LOCATION:PA
CATEGORIES:Monthly Committee Meetings
ATTACH;FMTTYPE=image/jpeg:https://www.bethlehempadems.com/wp-content/uploads/2020/01/zoom.jpg
END:VEVENT
BEGIN:VEVENT
DTSTART;TZID=America/New_York:20220110T190000
DTEND;TZID=America/New_York:20220110T203000
DTSTAMP:20260424T072147
CREATED:20220104T055735Z
LAST-MODIFIED:20220104T055735Z
UID:1233-1641841200-1641846600@www.bethlehempadems.com
SUMMARY:BCDC Monthly ZOOM Meeting (January 2022)
DESCRIPTION:This will be a VIRTUAL meeting via ZOOM … if you’d like to attend\, you’ll need to register in advance using Eventbrite. (Just click the link.) \nPLEASE NOTE: Despite our interest in returning to in-person meetings (and our vote to do so during our August monthly meeting)\, the spike in COVID infections in the area (and increasing hospitalizations here as well)\, forced the exec committee to continue with these Zoom meetings. We look forward to seeing you all in person when it’s safe (and smart). In the meantime\, we urge you ALL to consider getting vaccinated AND boosted … and abiding by the CDC’s recommendations to stop the spread and mutation of the virus.
URL:https://www.bethlehempadems.com/event/bcdc-monthly-zoom-meeting-jan-2022/
LOCATION:PA
CATEGORIES:Monthly Committee Meetings
ATTACH;FMTTYPE=image/jpeg:https://www.bethlehempadems.com/wp-content/uploads/2020/01/zoom.jpg
END:VEVENT
BEGIN:VEVENT
DTSTART;TZID=America/New_York:20211011T190000
DTEND;TZID=America/New_York:20211011T210000
DTSTAMP:20260424T072147
CREATED:20210920T160554Z
LAST-MODIFIED:20211007T162959Z
UID:1197-1633978800-1633986000@www.bethlehempadems.com
SUMMARY:BCDC Monthly ZOOM Meeting (October 2021)
DESCRIPTION:This will be a VIRTUAL meeting via ZOOM … if you’d like to attend\, you’ll need to register in advance using Eventbrite. (Just click the link.) \nPLEASE NOTE: Despite our interest in returning to in-person meetings (and our vote to do so during our August monthly meeting)\, the increasing COVID infections in the area (and increasing hospitalizations here as well)\, forced the exec committee to reconsider. We look forward to seeing you all in person when it’s safe (and smart). In the meantime\, we urge you ALL to consider getting vaccinated and abiding by the CDC’s recommendations to stop the spread and mutation of the virus.
URL:https://www.bethlehempadems.com/event/bcdc-monthly-zoom-meeting-october-2021/
LOCATION:PA
CATEGORIES:Monthly Committee Meetings
ATTACH;FMTTYPE=image/jpeg:https://www.bethlehempadems.com/wp-content/uploads/2020/01/zoom.jpg
END:VEVENT
BEGIN:VEVENT
DTSTART;TZID=America/New_York:20210913T190000
DTEND;TZID=America/New_York:20210913T210000
DTSTAMP:20260424T072147
CREATED:20210911T165630Z
LAST-MODIFIED:20210911T165630Z
UID:1174-1631559600-1631566800@www.bethlehempadems.com
SUMMARY:BCDC Monthly ZOOM Meeting (September 2021)
DESCRIPTION:This will be a VIRTUAL meeting via ZOOM … if you’d like to attend\, you’ll need to register in advance using Eventbrite. (Just click the link.) \nPLEASE NOTE: Despite our interest in returning to in-person meetings (and our vote to do so during last month’s meeting)\, the increasing COVID infections in the area (and increasing hospitalizations here as well)\, forced the exec committee to reconsider. We look forward to seeing you all in person when it’s safe (and smart). In the meantime\, we urge you ALL to consider getting vaccinated and abiding by the CDC’s recommendations to stop the spread and mutation of the virus.
URL:https://www.bethlehempadems.com/event/bcdc-monthly-zoom-meeting-sept-2021/
LOCATION:PA
CATEGORIES:Monthly Committee Meetings
ATTACH;FMTTYPE=image/jpeg:https://www.bethlehempadems.com/wp-content/uploads/2020/01/zoom.jpg
END:VEVENT
BEGIN:VEVENT
DTSTART;TZID=America/New_York:20210809T190000
DTEND;TZID=America/New_York:20210809T210000
DTSTAMP:20260424T072147
CREATED:20210805T152142Z
LAST-MODIFIED:20210805T152142Z
UID:1161-1628535600-1628542800@www.bethlehempadems.com
SUMMARY:BCDC Monthly ZOOM Meeting (August 2021)
DESCRIPTION:This will be a VIRTUAL meeting via ZOOM … if you’d like to attend\, you’ll need to register in advance using Eventbrite. (Just click the link.)
URL:https://www.bethlehempadems.com/event/bcdc-monthly-zoom-meeting-august-2021/
LOCATION:PA
CATEGORIES:Monthly Committee Meetings
ATTACH;FMTTYPE=image/jpeg:https://www.bethlehempadems.com/wp-content/uploads/2020/01/zoom.jpg
END:VEVENT
BEGIN:VEVENT
DTSTART;TZID=America/New_York:20210712T190000
DTEND;TZID=America/New_York:20210712T210000
DTSTAMP:20260424T072147
CREATED:20210704T210104Z
LAST-MODIFIED:20210704T210104Z
UID:1142-1626116400-1626123600@www.bethlehempadems.com
SUMMARY:BCDC Monthly ZOOM Meeting (July 2021)
DESCRIPTION:This will be a VIRTUAL meeting via ZOOM … if you’d like to attend\, you’ll need to register in advance using Eventbrite. (Just click the
URL:https://www.bethlehempadems.com/event/bcdc-monthly-zoom-meeting-july-2021/
LOCATION:PA
CATEGORIES:Monthly Committee Meetings
ATTACH;FMTTYPE=image/jpeg:https://www.bethlehempadems.com/wp-content/uploads/2020/01/zoom.jpg
END:VEVENT
BEGIN:VEVENT
DTSTART;TZID=America/New_York:20210614T190000
DTEND;TZID=America/New_York:20210614T210000
DTSTAMP:20260424T072147
CREATED:20210611T155124Z
LAST-MODIFIED:20210611T155124Z
UID:1136-1623697200-1623704400@www.bethlehempadems.com
SUMMARY:BCDC Monthly ZOOM Meeting (June 2021)
DESCRIPTION:This will be a VIRTUAL meeting via ZOOM … if you’d like to attend\, you’ll need to register in advance using Eventbrite. (Just click the
URL:https://www.bethlehempadems.com/event/bcdc-monthly-zoom-meeting-june-2021/
LOCATION:PA
CATEGORIES:Monthly Committee Meetings
ATTACH;FMTTYPE=image/jpeg:https://www.bethlehempadems.com/wp-content/uploads/2020/01/zoom.jpg
END:VEVENT
BEGIN:VEVENT
DTSTART;TZID=America/New_York:20210510T190000
DTEND;TZID=America/New_York:20210510T210000
DTSTAMP:20260424T072147
CREATED:20210503T193830Z
LAST-MODIFIED:20210503T193830Z
UID:1129-1620673200-1620680400@www.bethlehempadems.com
SUMMARY:BCDC Monthly ZOOM Meeting (May 2021)
DESCRIPTION:This will be a VIRTUAL meeting via ZOOM … if you’d like to attend\, you’ll need to register in advance using Eventbrite. (Just click the
URL:https://www.bethlehempadems.com/event/bcdc-monthly-zoom-meeting-may-2021/
LOCATION:PA
CATEGORIES:Monthly Committee Meetings
ATTACH;FMTTYPE=image/jpeg:https://www.bethlehempadems.com/wp-content/uploads/2020/01/zoom.jpg
END:VEVENT
BEGIN:VEVENT
DTSTART;TZID=America/New_York:20201012T190000
DTEND;TZID=America/New_York:20201012T210000
DTSTAMP:20260424T072147
CREATED:20200115T191659Z
LAST-MODIFIED:20201011T192134Z
UID:994-1602529200-1602536400@www.bethlehempadems.com
SUMMARY:BCDC Monthly ZOOM Meeting (October 2020)
DESCRIPTION:This will be a VIRTUAL meeting via ZOOM … if you’d like to attend\, you’ll need to register in advance using Eventbrite. (Just click the link.)
URL:https://www.bethlehempadems.com/event/bcdc-monthly-meeting-october-2020/
LOCATION:PA
CATEGORIES:Monthly Committee Meetings
ATTACH;FMTTYPE=image/jpeg:https://www.bethlehempadems.com/wp-content/uploads/2020/01/zoom.jpg
END:VEVENT
BEGIN:VEVENT
DTSTART;TZID=America/New_York:20200914T190000
DTEND;TZID=America/New_York:20200914T210000
DTSTAMP:20260424T072147
CREATED:20200115T191627Z
LAST-MODIFIED:20200910T030421Z
UID:992-1600110000-1600117200@www.bethlehempadems.com
SUMMARY:BCDC Monthly ZOOM Meeting (September 2020)
DESCRIPTION:This will be a VIRTUAL meeting via ZOOM … if you’d like to attend\, you’ll need to register in advance using Eventbrite. (Just click the link.)
URL:https://www.bethlehempadems.com/event/bcdc-monthly-meeting-september-2020/
LOCATION:PA
CATEGORIES:Monthly Committee Meetings
ATTACH;FMTTYPE=image/jpeg:https://www.bethlehempadems.com/wp-content/uploads/2020/01/zoom.jpg
END:VEVENT
BEGIN:VEVENT
DTSTART;TZID=America/New_York:20200810T190000
DTEND;TZID=America/New_York:20200810T210000
DTSTAMP:20260424T072147
CREATED:20200115T191554Z
LAST-MODIFIED:20200810T145516Z
UID:990-1597086000-1597093200@www.bethlehempadems.com
SUMMARY:BCDC Monthly Meeting (August 2020) CANCELLED
DESCRIPTION:CANCELLED!!
URL:https://www.bethlehempadems.com/event/bcdc-monthly-meeting-august-2020/
LOCATION:Grover Cleveland Democratic Assoc.\, 904 Main St\, Bethlehem\, PA\, 18018\, United States
CATEGORIES:Monthly Committee Meetings
ATTACH;FMTTYPE=image/jpeg:https://www.bethlehempadems.com/wp-content/uploads/2018/07/grover-cleveland-dem-assoc.jpg
END:VEVENT
BEGIN:VEVENT
DTSTART;TZID=America/New_York:20200716T190000
DTEND;TZID=America/New_York:20200716T210000
DTSTAMP:20260424T072147
CREATED:20200115T191522Z
LAST-MODIFIED:20200115T191522Z
UID:988-1594926000-1594933200@www.bethlehempadems.com
SUMMARY:BCDC Monthly Meeting (July 2020)
DESCRIPTION:NOTE SPECIAL DAY (Thursday)! \nStay after the meeting for the convention watch party!!
URL:https://www.bethlehempadems.com/event/bcdc-monthly-meeting-july-2020/
LOCATION:Grover Cleveland Democratic Assoc.\, 904 Main St\, Bethlehem\, PA\, 18018\, United States
CATEGORIES:Monthly Committee Meetings
ATTACH;FMTTYPE=image/jpeg:https://www.bethlehempadems.com/wp-content/uploads/2018/07/grover-cleveland-dem-assoc.jpg
END:VEVENT
BEGIN:VEVENT
DTSTART;TZID=America/New_York:20200608T190000
DTEND;TZID=America/New_York:20200608T210000
DTSTAMP:20260424T072147
CREATED:20200115T191341Z
LAST-MODIFIED:20200605T183622Z
UID:986-1591642800-1591650000@www.bethlehempadems.com
SUMMARY:BCDC Monthly Meeting (June 2020)
DESCRIPTION:THIS MEETING WILL BE HELD OVER ZOOM!! \nIf you are a committee member\, check your email for the invitation and instructions. \nIf you can’t find the email\, contact the committee via bethlehemdems@gmail.com or call 610-504-1585 for instructions.
URL:https://www.bethlehempadems.com/event/bcdc-monthly-meeting-june-2020/
LOCATION:PA
CATEGORIES:Monthly Committee Meetings
ATTACH;FMTTYPE=image/jpeg:https://www.bethlehempadems.com/wp-content/uploads/2020/01/zoom.jpg
END:VEVENT
BEGIN:VEVENT
DTSTART;TZID=America/New_York:20200511T190000
DTEND;TZID=America/New_York:20200511T210000
DTSTAMP:20260424T072147
CREATED:20200115T191306Z
LAST-MODIFIED:20200425T184923Z
UID:984-1589223600-1589230800@www.bethlehempadems.com
SUMMARY:CANCELLED!! BCDC Monthly Meeting (May 2020)
DESCRIPTION:
URL:https://www.bethlehempadems.com/event/bcdc-monthly-meeting-may-2020/
LOCATION:Grover Cleveland Democratic Assoc.\, 904 Main St\, Bethlehem\, PA\, 18018\, United States
CATEGORIES:Monthly Committee Meetings
ATTACH;FMTTYPE=image/jpeg:https://www.bethlehempadems.com/wp-content/uploads/2018/07/grover-cleveland-dem-assoc.jpg
END:VEVENT
BEGIN:VEVENT
DTSTART;TZID=America/New_York:20200413T190000
DTEND;TZID=America/New_York:20200413T210000
DTSTAMP:20260424T072147
CREATED:20200115T191234Z
LAST-MODIFIED:20200404T170907Z
UID:982-1586804400-1586811600@www.bethlehempadems.com
SUMMARY:CANCELLED: BCDC Monthly Meeting (April 2020)
DESCRIPTION:Stay at home and be safe!!
URL:https://www.bethlehempadems.com/event/bcdc-monthly-meeting-april-2020/
LOCATION:Grover Cleveland Democratic Assoc.\, 904 Main St\, Bethlehem\, PA\, 18018\, United States
CATEGORIES:Monthly Committee Meetings
ATTACH;FMTTYPE=image/jpeg:https://www.bethlehempadems.com/wp-content/uploads/2018/07/grover-cleveland-dem-assoc.jpg
END:VEVENT
BEGIN:VEVENT
DTSTART;TZID=America/New_York:20200309T190000
DTEND;TZID=America/New_York:20200309T210000
DTSTAMP:20260424T072147
CREATED:20200115T191149Z
LAST-MODIFIED:20200115T191200Z
UID:980-1583780400-1583787600@www.bethlehempadems.com
SUMMARY:BCDC Monthly Meeting (March 2020)
DESCRIPTION:
URL:https://www.bethlehempadems.com/event/bcdc-monthly-meeting-march-2020/
LOCATION:Grover Cleveland Democratic Assoc.\, 904 Main St\, Bethlehem\, PA\, 18018\, United States
CATEGORIES:Monthly Committee Meetings
ATTACH;FMTTYPE=image/jpeg:https://www.bethlehempadems.com/wp-content/uploads/2018/07/grover-cleveland-dem-assoc.jpg
END:VEVENT
BEGIN:VEVENT
DTSTART;TZID=America/New_York:20200210T190000
DTEND;TZID=America/New_York:20200210T210000
DTSTAMP:20260424T072147
CREATED:20200115T191119Z
LAST-MODIFIED:20200115T191119Z
UID:978-1581361200-1581368400@www.bethlehempadems.com
SUMMARY:BCDC Monthly Meeting (February 2020)
DESCRIPTION:
URL:https://www.bethlehempadems.com/event/bcdc-monthly-meeting-february-2020/
LOCATION:Grover Cleveland Democratic Assoc.\, 904 Main St\, Bethlehem\, PA\, 18018\, United States
CATEGORIES:Monthly Committee Meetings
ATTACH;FMTTYPE=image/jpeg:https://www.bethlehempadems.com/wp-content/uploads/2018/07/grover-cleveland-dem-assoc.jpg
END:VEVENT
BEGIN:VEVENT
DTSTART;TZID=America/New_York:20200113T190000
DTEND;TZID=America/New_York:20200113T210000
DTSTAMP:20260424T072147
CREATED:20200115T191014Z
LAST-MODIFIED:20200115T191014Z
UID:976-1578942000-1578949200@www.bethlehempadems.com
SUMMARY:BCDC Monthly Meeting (January 2020)
DESCRIPTION:
URL:https://www.bethlehempadems.com/event/bcdc-monthly-meeting-january-2020/
LOCATION:Grover Cleveland Democratic Assoc.\, 904 Main St\, Bethlehem\, PA\, 18018\, United States
CATEGORIES:Monthly Committee Meetings
ATTACH;FMTTYPE=image/jpeg:https://www.bethlehempadems.com/wp-content/uploads/2018/07/grover-cleveland-dem-assoc.jpg
END:VEVENT
BEGIN:VEVENT
DTSTART;TZID=America/New_York:20191111T190000
DTEND;TZID=America/New_York:20191111T213000
DTSTAMP:20260424T072147
CREATED:20191015T153757Z
LAST-MODIFIED:20191015T153757Z
UID:944-1573498800-1573507800@www.bethlehempadems.com
SUMMARY:BCDC Monthly Meeting & POTLUCK (November 2019)
DESCRIPTION:It’s our annual Potluck celebrations following an election!\nBring a covered dish! (Beverages & a Deli Tray provided.)
URL:https://www.bethlehempadems.com/event/bcdc-monthly-meeting-potluck-november-2019/
LOCATION:United Steelworkers Union Hall\, 53 E. Lehigh St\,\, Bethlehem\, PA\, 18018\, United States
CATEGORIES:Monthly Committee Meetings
ATTACH;FMTTYPE=image/jpeg:https://www.bethlehempadems.com/wp-content/uploads/2019/10/steelworkers-hall-bethlehem.jpg
END:VEVENT
BEGIN:VEVENT
DTSTART;TZID=America/New_York:20191014T190000
DTEND;TZID=America/New_York:20191014T213000
DTSTAMP:20260424T072147
CREATED:20190910T144331Z
LAST-MODIFIED:20190910T144343Z
UID:938-1571079600-1571088600@www.bethlehempadems.com
SUMMARY:BCDC Monthly Meeting (October 2019)
DESCRIPTION:
URL:https://www.bethlehempadems.com/event/bcdc-monthly-meeting-october2019/
LOCATION:Grover Cleveland Democratic Assoc.\, 904 Main St\, Bethlehem\, PA\, 18018\, United States
CATEGORIES:Monthly Committee Meetings
ATTACH;FMTTYPE=image/jpeg:https://www.bethlehempadems.com/wp-content/uploads/2018/07/grover-cleveland-dem-assoc.jpg
END:VEVENT
BEGIN:VEVENT
DTSTART;TZID=America/New_York:20190909T190000
DTEND;TZID=America/New_York:20190909T213000
DTSTAMP:20260424T072147
CREATED:20190726T163055Z
LAST-MODIFIED:20190726T163055Z
UID:928-1568055600-1568064600@www.bethlehempadems.com
SUMMARY:BCDC Monthly Meeting (September 2019)
DESCRIPTION:
URL:https://www.bethlehempadems.com/event/bcdc-monthly-meeting-september-2019/
LOCATION:Grover Cleveland Democratic Assoc.\, 904 Main St\, Bethlehem\, PA\, 18018\, United States
CATEGORIES:Monthly Committee Meetings
ATTACH;FMTTYPE=image/jpeg:https://www.bethlehempadems.com/wp-content/uploads/2018/07/grover-cleveland-dem-assoc.jpg
END:VEVENT
BEGIN:VEVENT
DTSTART;TZID=America/New_York:20190812T190000
DTEND;TZID=America/New_York:20190812T213000
DTSTAMP:20260424T072147
CREATED:20190619T171647Z
LAST-MODIFIED:20190619T171647Z
UID:915-1565636400-1565645400@www.bethlehempadems.com
SUMMARY:BCDC Monthly Meeting (August 2019)
DESCRIPTION:
URL:https://www.bethlehempadems.com/event/bcdc-monthly-meeting-august-2019/
LOCATION:Grover Cleveland Democratic Assoc.\, 904 Main St\, Bethlehem\, PA\, 18018\, United States
CATEGORIES:Monthly Committee Meetings
ATTACH;FMTTYPE=image/jpeg:https://www.bethlehempadems.com/wp-content/uploads/2018/07/grover-cleveland-dem-assoc.jpg
END:VEVENT
BEGIN:VEVENT
DTSTART;TZID=America/New_York:20190708T190000
DTEND;TZID=America/New_York:20190708T213000
DTSTAMP:20260424T072147
CREATED:20190619T171439Z
LAST-MODIFIED:20190619T171439Z
UID:913-1562612400-1562621400@www.bethlehempadems.com
SUMMARY:BCDC Monthly Meeting (July 2019)
DESCRIPTION:
URL:https://www.bethlehempadems.com/event/bcdc-monthly-meeting-july-2019/
LOCATION:Grover Cleveland Democratic Assoc.\, 904 Main St\, Bethlehem\, PA\, 18018\, United States
CATEGORIES:Monthly Committee Meetings
ATTACH;FMTTYPE=image/jpeg:https://www.bethlehempadems.com/wp-content/uploads/2018/07/grover-cleveland-dem-assoc.jpg
END:VEVENT
BEGIN:VEVENT
DTSTART;TZID=America/New_York:20190610T190000
DTEND;TZID=America/New_York:20190610T213000
DTSTAMP:20260424T072147
CREATED:20190619T171312Z
LAST-MODIFIED:20190619T171312Z
UID:911-1560193200-1560202200@www.bethlehempadems.com
SUMMARY:BCDC Monthly Meeting (June 2019)
DESCRIPTION:
URL:https://www.bethlehempadems.com/event/bcdc-monthly-meeting-june-2019/
LOCATION:Grover Cleveland Democratic Assoc.\, 904 Main St\, Bethlehem\, PA\, 18018\, United States
CATEGORIES:Monthly Committee Meetings
ATTACH;FMTTYPE=image/jpeg:https://www.bethlehempadems.com/wp-content/uploads/2018/07/grover-cleveland-dem-assoc.jpg
END:VEVENT
END:VCALENDAR