BEGIN:VCALENDAR
VERSION:2.0
PRODID:-//Bethlehem City Democratic Committee - ECPv6.15.20//NONSGML v1.0//EN
CALSCALE:GREGORIAN
METHOD:PUBLISH
X-WR-CALNAME:Bethlehem City Democratic Committee
X-ORIGINAL-URL:https://www.bethlehempadems.com
X-WR-CALDESC:Events for Bethlehem City Democratic Committee
REFRESH-INTERVAL;VALUE=DURATION:PT1H
X-Robots-Tag:noindex
X-PUBLISHED-TTL:PT1H
BEGIN:VTIMEZONE
TZID:America/New_York
BEGIN:DAYLIGHT
TZOFFSETFROM:-0500
TZOFFSETTO:-0400
TZNAME:EDT
DTSTART:20250309T070000
END:DAYLIGHT
BEGIN:STANDARD
TZOFFSETFROM:-0400
TZOFFSETTO:-0500
TZNAME:EST
DTSTART:20251102T060000
END:STANDARD
BEGIN:DAYLIGHT
TZOFFSETFROM:-0500
TZOFFSETTO:-0400
TZNAME:EDT
DTSTART:20260308T070000
END:DAYLIGHT
BEGIN:STANDARD
TZOFFSETFROM:-0400
TZOFFSETTO:-0500
TZNAME:EST
DTSTART:20261101T060000
END:STANDARD
BEGIN:DAYLIGHT
TZOFFSETFROM:-0500
TZOFFSETTO:-0400
TZNAME:EDT
DTSTART:20270314T070000
END:DAYLIGHT
BEGIN:STANDARD
TZOFFSETFROM:-0400
TZOFFSETTO:-0500
TZNAME:EST
DTSTART:20271107T060000
END:STANDARD
END:VTIMEZONE
BEGIN:VEVENT
DTSTART;TZID=America/New_York:20260413T190000
DTEND;TZID=America/New_York:20260413T203000
DTSTAMP:20260424T035821
CREATED:20260401T213156Z
LAST-MODIFIED:20260401T213156Z
UID:2076-1776106800-1776112200@www.bethlehempadems.com
SUMMARY:Bethlehem City Dems Monthly Meeting (April 2026)
DESCRIPTION:We are please to invite all Bethlehem Democrats to our April 2026 meeting —\n\nMonday\, October 13th at 7PM \nThe meeting will take place at our regular space: in Room 623 at the Fowler Center\, Northampton Community College on the South Side of Bethlehem (511 East Third Street). Follow the signs to the elevator from the main lobby\nThis second Monday of the quarter meeting is a “required to attend meeting” for all PCPs\, and open to anY Bethlehem Democrats. Details and materials for the meeting will be posted here one week prior to the gathering. (There will also be a Zoom available\, with the link made available here when the meeting materials are uploaded.) \nWe hope to see you there!
URL:https://www.bethlehempadems.com/event/bethlehem-city-dems-monthly-meeting-april-2026/
LOCATION:NCC Fowler Center\, 511 E 3rd St\, Bethlehem\, PA\, 18015\, United States
CATEGORIES:Monthly Committee Meetings
ATTACH;FMTTYPE=image/jpeg:https://www.bethlehempadems.com/wp-content/uploads/2022/06/ncc-fowler-center.jpg
END:VEVENT
END:VCALENDAR