BEGIN:VCALENDAR
VERSION:2.0
PRODID:-//Bethlehem City Democratic Committee - ECPv6.15.20//NONSGML v1.0//EN
CALSCALE:GREGORIAN
METHOD:PUBLISH
X-ORIGINAL-URL:https://www.bethlehempadems.com
X-WR-CALDESC:Events for Bethlehem City Democratic Committee
REFRESH-INTERVAL;VALUE=DURATION:PT1H
X-Robots-Tag:noindex
X-PUBLISHED-TTL:PT1H
BEGIN:VTIMEZONE
TZID:America/New_York
BEGIN:DAYLIGHT
TZOFFSETFROM:-0500
TZOFFSETTO:-0400
TZNAME:EDT
DTSTART:20230312T070000
END:DAYLIGHT
BEGIN:STANDARD
TZOFFSETFROM:-0400
TZOFFSETTO:-0500
TZNAME:EST
DTSTART:20231105T060000
END:STANDARD
BEGIN:DAYLIGHT
TZOFFSETFROM:-0500
TZOFFSETTO:-0400
TZNAME:EDT
DTSTART:20240310T070000
END:DAYLIGHT
BEGIN:STANDARD
TZOFFSETFROM:-0400
TZOFFSETTO:-0500
TZNAME:EST
DTSTART:20241103T060000
END:STANDARD
BEGIN:DAYLIGHT
TZOFFSETFROM:-0500
TZOFFSETTO:-0400
TZNAME:EDT
DTSTART:20250309T070000
END:DAYLIGHT
BEGIN:STANDARD
TZOFFSETFROM:-0400
TZOFFSETTO:-0500
TZNAME:EST
DTSTART:20251102T060000
END:STANDARD
END:VTIMEZONE
BEGIN:VEVENT
DTSTART;TZID=America/New_York:20240108T190000
DTEND;TZID=America/New_York:20240108T203000
DTSTAMP:20260426T002708
CREATED:20240105T173531Z
LAST-MODIFIED:20240105T174301Z
UID:1705-1704740400-1704745800@www.bethlehempadems.com
SUMMARY:Bethlehem City Dems Monthly Meeting (January 2024)
DESCRIPTION:We are excited to announce our First 2024 meeting —\n\nMonday\, January 8th at 7PM \nThe meeting will be hosted in Room 114 at the Fowler Center\, Northampton Community College on the South Side of Bethlehem (511 East Third Street). This will also be available as a Zoom Hybrid meeting … all PCPs and any others on our mailing list will receive the Zoom link approximately one week prior to the meeting. If you need the link\, you can email us at bethlehemdems@gmail.com to request the link. (We will be able to respond any requests at least 2 hours prior to the start of the meeting!) \n \nWe will also be discussing upcoming Petition Events and 2024 initiatives for our committee. \nWe hope to see you there! \n\nHere are links to important docs for the meeting! \nJanuary Meeting Agenda \nOctober Meeting Minutes (presented for approval) \nOctober 2023 Financial Report \nNovember 2023 Financial Report \nDecember 2023 Financial Report
URL:https://www.bethlehempadems.com/event/bethlehem-city-dems-monthly-meeting-january-2024/
LOCATION:NCC Fowler Center\, 511 E 3rd St\, Bethlehem\, PA\, 18015\, United States
CATEGORIES:Monthly Committee Meetings
ATTACH;FMTTYPE=image/jpeg:https://www.bethlehempadems.com/wp-content/uploads/2022/06/ncc-fowler-center.jpg
END:VEVENT
END:VCALENDAR