BEGIN:VCALENDAR
VERSION:2.0
PRODID:-//Bethlehem City Democratic Committee - ECPv6.15.20//NONSGML v1.0//EN
CALSCALE:GREGORIAN
METHOD:PUBLISH
X-WR-CALNAME:Bethlehem City Democratic Committee
X-ORIGINAL-URL:https://www.bethlehempadems.com
X-WR-CALDESC:Events for Bethlehem City Democratic Committee
REFRESH-INTERVAL;VALUE=DURATION:PT1H
X-Robots-Tag:noindex
X-PUBLISHED-TTL:PT1H
BEGIN:VTIMEZONE
TZID:America/New_York
BEGIN:DAYLIGHT
TZOFFSETFROM:-0500
TZOFFSETTO:-0400
TZNAME:EDT
DTSTART:20240310T070000
END:DAYLIGHT
BEGIN:STANDARD
TZOFFSETFROM:-0400
TZOFFSETTO:-0500
TZNAME:EST
DTSTART:20241103T060000
END:STANDARD
BEGIN:DAYLIGHT
TZOFFSETFROM:-0500
TZOFFSETTO:-0400
TZNAME:EDT
DTSTART:20250309T070000
END:DAYLIGHT
BEGIN:STANDARD
TZOFFSETFROM:-0400
TZOFFSETTO:-0500
TZNAME:EST
DTSTART:20251102T060000
END:STANDARD
BEGIN:DAYLIGHT
TZOFFSETFROM:-0500
TZOFFSETTO:-0400
TZNAME:EDT
DTSTART:20260308T070000
END:DAYLIGHT
BEGIN:STANDARD
TZOFFSETFROM:-0400
TZOFFSETTO:-0500
TZNAME:EST
DTSTART:20261101T060000
END:STANDARD
END:VTIMEZONE
BEGIN:VEVENT
DTSTART;TZID=America/New_York:20251013T190000
DTEND;TZID=America/New_York:20251013T203000
DTSTAMP:20260424T121604
CREATED:20250907T221208Z
LAST-MODIFIED:20250907T221316Z
UID:2034-1760382000-1760387400@www.bethlehempadems.com
SUMMARY:Bethlehem City Dems Monthly Meeting (October 2025)
DESCRIPTION:We are please to invite all Bethlehem Democrats to our October 2025 meeting —\n\nMonday\, October 13th at 7PM \nThe meeting will take place at our regular space: in Room 114 at the Fowler Center\, Northampton Community College on the South Side of Bethlehem (511 East Third Street). \nDetails and materials for the meeting will be posted here one week prior to the gathering. \nWe hope to see you there!
URL:https://www.bethlehempadems.com/event/bethlehem-city-dems-monthly-meeting-october-2025/
LOCATION:NCC Fowler Center\, 511 E 3rd St\, Bethlehem\, PA\, 18015\, United States
CATEGORIES:Monthly Committee Meetings
ATTACH;FMTTYPE=image/jpeg:https://www.bethlehempadems.com/wp-content/uploads/2022/06/ncc-fowler-center.jpg
END:VEVENT
END:VCALENDAR