BEGIN:VCALENDAR
VERSION:2.0
PRODID:-//Bethlehem City Democratic Committee - ECPv6.15.20//NONSGML v1.0//EN
CALSCALE:GREGORIAN
METHOD:PUBLISH
X-WR-CALNAME:Bethlehem City Democratic Committee
X-ORIGINAL-URL:https://www.bethlehempadems.com
X-WR-CALDESC:Events for Bethlehem City Democratic Committee
REFRESH-INTERVAL;VALUE=DURATION:PT1H
X-Robots-Tag:noindex
X-PUBLISHED-TTL:PT1H
BEGIN:VTIMEZONE
TZID:America/New_York
BEGIN:DAYLIGHT
TZOFFSETFROM:-0500
TZOFFSETTO:-0400
TZNAME:EDT
DTSTART:20170312T070000
END:DAYLIGHT
BEGIN:STANDARD
TZOFFSETFROM:-0400
TZOFFSETTO:-0500
TZNAME:EST
DTSTART:20171105T060000
END:STANDARD
BEGIN:DAYLIGHT
TZOFFSETFROM:-0500
TZOFFSETTO:-0400
TZNAME:EDT
DTSTART:20180311T070000
END:DAYLIGHT
BEGIN:STANDARD
TZOFFSETFROM:-0400
TZOFFSETTO:-0500
TZNAME:EST
DTSTART:20181104T060000
END:STANDARD
BEGIN:DAYLIGHT
TZOFFSETFROM:-0500
TZOFFSETTO:-0400
TZNAME:EDT
DTSTART:20190310T070000
END:DAYLIGHT
BEGIN:STANDARD
TZOFFSETFROM:-0400
TZOFFSETTO:-0500
TZNAME:EST
DTSTART:20191103T060000
END:STANDARD
BEGIN:DAYLIGHT
TZOFFSETFROM:-0500
TZOFFSETTO:-0400
TZNAME:EDT
DTSTART:20200308T070000
END:DAYLIGHT
BEGIN:STANDARD
TZOFFSETFROM:-0400
TZOFFSETTO:-0500
TZNAME:EST
DTSTART:20201101T060000
END:STANDARD
BEGIN:DAYLIGHT
TZOFFSETFROM:-0500
TZOFFSETTO:-0400
TZNAME:EDT
DTSTART:20210314T070000
END:DAYLIGHT
BEGIN:STANDARD
TZOFFSETFROM:-0400
TZOFFSETTO:-0500
TZNAME:EST
DTSTART:20211107T060000
END:STANDARD
BEGIN:DAYLIGHT
TZOFFSETFROM:-0500
TZOFFSETTO:-0400
TZNAME:EDT
DTSTART:20220313T070000
END:DAYLIGHT
BEGIN:STANDARD
TZOFFSETFROM:-0400
TZOFFSETTO:-0500
TZNAME:EST
DTSTART:20221106T060000
END:STANDARD
BEGIN:DAYLIGHT
TZOFFSETFROM:-0500
TZOFFSETTO:-0400
TZNAME:EDT
DTSTART:20230312T070000
END:DAYLIGHT
BEGIN:STANDARD
TZOFFSETFROM:-0400
TZOFFSETTO:-0500
TZNAME:EST
DTSTART:20231105T060000
END:STANDARD
BEGIN:DAYLIGHT
TZOFFSETFROM:-0500
TZOFFSETTO:-0400
TZNAME:EDT
DTSTART:20240310T070000
END:DAYLIGHT
BEGIN:STANDARD
TZOFFSETFROM:-0400
TZOFFSETTO:-0500
TZNAME:EST
DTSTART:20241103T060000
END:STANDARD
BEGIN:DAYLIGHT
TZOFFSETFROM:-0500
TZOFFSETTO:-0400
TZNAME:EDT
DTSTART:20250309T070000
END:DAYLIGHT
BEGIN:STANDARD
TZOFFSETFROM:-0400
TZOFFSETTO:-0500
TZNAME:EST
DTSTART:20251102T060000
END:STANDARD
BEGIN:DAYLIGHT
TZOFFSETFROM:-0500
TZOFFSETTO:-0400
TZNAME:EDT
DTSTART:20260308T070000
END:DAYLIGHT
BEGIN:STANDARD
TZOFFSETFROM:-0400
TZOFFSETTO:-0500
TZNAME:EST
DTSTART:20261101T060000
END:STANDARD
END:VTIMEZONE
BEGIN:VEVENT
DTSTART;TZID=America/New_York:20250918T183000
DTEND;TZID=America/New_York:20250918T210000
DTSTAMP:20260424T071746
CREATED:20250907T222749Z
LAST-MODIFIED:20250907T223129Z
UID:1008-1758220200-1758229200@www.bethlehempadems.com
SUMMARY:2025 Cocktails & Candidates (Fundraising Event)
DESCRIPTION:Click HERE to purchase tickets!
URL:https://www.bethlehempadems.com/event/2025-cocktails-candidates-fundraising-event/
LOCATION:Sun Inn\, 564 Main St.\, Bethlehem\, 18018\, United States
CATEGORIES:Fundraising Events
ATTACH;FMTTYPE=image/jpeg:https://www.bethlehempadems.com/wp-content/uploads/2020/01/2025-BCDC-Fundraiser-Flyer-scaled.jpg
END:VEVENT
BEGIN:VEVENT
DTSTART;TZID=America/New_York:20240919T183000
DTEND;TZID=America/New_York:20240919T203000
DTSTAMP:20260424T071746
CREATED:20240822T154649Z
LAST-MODIFIED:20240910T223629Z
UID:1887-1726770600-1726777800@www.bethlehempadems.com
SUMMARY:Harris/Trump Trivia Night Fundraiser: Let's Add More Joy!
DESCRIPTION:Join your fellow Bethlehem Democrats for a night of fun and camaraderie as we work together for the best outcome this November! All funds we raise from this event will be used to further the BCDC’s work to elect Democrats to represent us locally\, statewide\, and nationally. \nBUY TICKETS ONLINE … or PAY WITH CASH OR CHECK AT THE DOOR. \n(Note: It would be VERY helpful to know how many folks are coming in advance\, so if you’re planning on paying at the door\, PLEASE text or email an RSVP to us with your name so we know you’re coming. TEXT to 610-533-4506 or EMAIL BCDC at bethlehemdems@gmail.com (with “Trivia Night RSVP in the Subject Line.) \nSee you there!!
URL:https://www.bethlehempadems.com/event/harris-trump-trivia-night-fundraiser/
LOCATION:Country Club Brewing\, 323 Pierce Street\, Bethlehem\, PA\, 18015\, United States
CATEGORIES:Fundraising Events
ATTACH;FMTTYPE=image/jpeg:https://www.bethlehempadems.com/wp-content/uploads/2024/08/BCDC-Fundraiser-2024-Sept-19.jpg
END:VEVENT
BEGIN:VEVENT
DTSTART;TZID=America/New_York:20230629T190000
DTEND;TZID=America/New_York:20230629T203000
DTSTAMP:20260424T071746
CREATED:20230530T040012Z
LAST-MODIFIED:20230622T205136Z
UID:1577-1688065200-1688070600@www.bethlehempadems.com
SUMMARY:[CANCELLED] BCDC 2023 Summer Fundraiser
DESCRIPTION:APOLOGIES: This Event has been cancelled. All ticket purchases have been refunded. If there are any questions\,  please CLICK HERE to send an email! 
URL:https://www.bethlehempadems.com/event/bcdc-2023-summer-fundraiser/
LOCATION:Rudy’s Bar & Grill\, 1406 Center St\, Bethlehem\, PA\, 18018\, United States
CATEGORIES:Candidate Event,Democratic Party Event,Fundraising Events
ATTACH;FMTTYPE=image/jpeg:https://www.bethlehempadems.com/wp-content/uploads/2023/05/BCDC-2023-Summer-Fundraiser.jpg
END:VEVENT
BEGIN:VEVENT
DTSTART;TZID=America/New_York:20220501T013000
DTEND;TZID=America/New_York:20220501T170000
DTSTAMP:20260424T071746
CREATED:20220331T211923Z
LAST-MODIFIED:20220331T212015Z
UID:1331-1651368600-1651424400@www.bethlehempadems.com
SUMMARY:Ed O’Brien Labor Dinner / Dance
DESCRIPTION:Retired Steelworker Ed O’Brien Labor committee is announcing the annual Ed O’Brien Labor Dinner/ Dance on Sunday May 1\, 2022\, @ 53 E. Lehigh St. Bethlehem\, Pa. The cost per ticket is $50.00\, with cocktails starting at 1:30pm and dinner at 2:00pm. Beverages will be served throughout the event. \nFollowing dinner\, brief speeches including but not limited to: \nJohn Fetterman Pa Lt. Governor\nCandidate for US Senate \nFollowing\, the event continues with dancing and listening pleasure by “DJ” Hot Tub Jerry Green
URL:https://www.bethlehempadems.com/event/ed-obrien-labor-dinner-dance/
LOCATION:United Steelworkers Union Hall\, 53 E. Lehigh St\,\, Bethlehem\, PA\, 18018\, United States
CATEGORIES:Fundraising Events
ATTACH;FMTTYPE=image/jpeg:https://www.bethlehempadems.com/wp-content/uploads/2019/10/steelworkers-hall-bethlehem.jpg
END:VEVENT
BEGIN:VEVENT
DTSTART;TZID=America/New_York:20191005T093000
DTEND;TZID=America/New_York:20191005T190000
DTSTAMP:20260424T071746
CREATED:20190910T144133Z
LAST-MODIFIED:20190910T144133Z
UID:934-1570267800-1570302000@www.bethlehempadems.com
SUMMARY:BCDC's Annual Golf Tournament
DESCRIPTION:Join us for BCDC’s Annual Golf Tournament at Bethlehem Golf Club! \nThe tournament format is a 4-Person Scramble\, with carts included in the registration fee. \nDeadline for Golfer registration: September 27th\, 2019 \nSEE THE EVENT WEBSITE LINK BELOW FOR MORE DETAILS AND A BROCHURE DOWNLOAD! \nCOST \n$100/person \nEach Golfer will receive: \n    Welcome Gift\n    $3 Pro Shop credit\n    Beverage Cart drink tickets\n    Hot dogs & beverages at turn\n    Coupon for 1 FREE golf club\n    Golfer’s Dinner\n    Event Program\n    $10\,000 Hole-in-One opportunity \nPrizes will be awarded at the Golfer’s Dinner based on team scores\n(no handicap) \nEVENT SCHEDULE \n    9:30 am – Registration\n    10:00 am – Putting Green Contest Begins\n    11:00 am – Shotgun Start\n    5:30 pm – Cocktail Hour\n    6:00 pm – Dinner & Prizes \nBeverages available throughout the tournament \nCONTESTS \n    Hole-in-One\n    Pot of Gold\n    Longest Drive\n    50/50 Raffle\n    Closest to Pins\n    Mulligans\n    Putting Contest \nSPONSORSHIPS & PROGRAM ADVERTISEMENTS \nFor additional information about sponsorship and advertising opportunities\, see ticket details or email josh.bethlehemdems@gmail.com. \nSponsorship Levels \n    Tournament Sponsor ($2\,500)\n    Welcome Gift Sponsor ($1\,500)\n    Golf Cart Sponsor ($1\,250)\n    Score Card Sponsor ($1\,000)\n    Hole-in-One Sponsor ($600)\n    Beverage Cart Sponsor ($500)\n    Non-Golfer Sponsor ($150)\n    Putting Green Sponsor ($150)\n    Tee Sponsor ($100) \nProgram Advertisements \n    Full Page Ad ($200)\n    Half Page Ad ($100)\n    Quarter Page Ad ($50) \nDeadline for Sponsors and Advertisers: September 21st\, 2019 \nAll payment\, images\, and copy for print materials must be received by this deadline for inclusion!
URL:https://www.bethlehempadems.com/event/bcdcs-annual-golf-tournament/
LOCATION:Bethlehem Golf Club\, 400 Illick's Mill Rd\, Bethlehem\, PA\, 18017\, United States
CATEGORIES:Fundraising Events
ATTACH;FMTTYPE=image/jpeg:https://www.bethlehempadems.com/wp-content/uploads/2019/09/bcdc-golf.jpg
END:VEVENT
BEGIN:VEVENT
DTSTART;TZID=America/New_York:20190811T130000
DTEND;TZID=America/New_York:20190811T170000
DTSTAMP:20260424T071746
CREATED:20190718T161311Z
LAST-MODIFIED:20190726T161704Z
UID:919-1565528400-1565542800@www.bethlehempadems.com
SUMMARY:Annual BCDC Picnic (2019)
DESCRIPTION:Sunday\, August 11th from 1-5 PM\nrain or shine at the\nBethlehem Township Municipal Park.  \nTickets are $20 a person (children 12 and under are free). (Tickets include burgers & hot dogs incl. vegetarian versions\, all your favorite picnic side dishes\, beer\, wine and soda.) PURCHASE TICKETS HERE!! \nWe will have prizes including a 50/50 drawing\, raffle prizes\, and a door prize.   \nEntertainment will include games\, face/body painting by Traveler’s Song Henna\, caricatures by Kate Santee\, live music from RED the Acoustic Power Trio\, and even a stop at the park by Oogie’s Ice Cream Truck!
URL:https://www.bethlehempadems.com/event/annual-bcdc-picnic-2019/
LOCATION:Bethlehem Township Municipal Park\, 2900 Farmersville Road\, Bethlehem\, PA\, 18020\, United States
CATEGORIES:Fundraising Events
ATTACH;FMTTYPE=image/jpeg:https://www.bethlehempadems.com/wp-content/uploads/2019/07/picnic2019.jpg
END:VEVENT
BEGIN:VEVENT
DTSTART;TZID=America/New_York:20181006T140000
DTEND;TZID=America/New_York:20181006T153000
DTSTAMP:20260424T071746
CREATED:20180912T200632Z
LAST-MODIFIED:20210201T163107Z
UID:792-1538834400-1538839800@www.bethlehempadems.com
SUMMARY:Susan Wild Meet & Greet at the Mint!
DESCRIPTION:LAST MINUTE ADDITION TO THE EVENT!! \nNY State Democratic Congressman\nHAKEEM JEFFRIES will be joining\nSusan Wild at the Mint!\nBE THERE!!
URL:https://www.bethlehempadems.com/event/susan-wild-meet-greet-at-the-mint/
LOCATION:Mint Gastropub\, 1223 W Broad St.\, Bethlehem\, PA\, 18018\, United States
CATEGORIES:Candidate Event,Fundraising Events
ATTACH;FMTTYPE=image/jpeg:https://www.bethlehempadems.com/wp-content/uploads/2018/09/Mint-Fundraiser.jpg
ORGANIZER;CN="Megan Beste & Brooke McDermott":MAILTO:megan.beste@gmail.com
END:VEVENT
BEGIN:VEVENT
DTSTART;TZID=America/New_York:20181006T113000
DTEND;TZID=America/New_York:20181006T203000
DTSTAMP:20260424T071746
CREATED:20180903T151856Z
LAST-MODIFIED:20180903T151856Z
UID:744-1538825400-1538857800@www.bethlehempadems.com
SUMMARY:BCDC Annual Golf Tournament
DESCRIPTION:Join us for BCDC’s Annual Golf Tournament at Bethlehem Golf Club! \nThe tournament format is a 4-Person Scramble\, with carts included in the registration fee. \nDeadline for Golfer registration: September 25th\, 2018 \nCOST: $100/person (Use the EventBrite link below to signup and register!) \nEach Golfer will receive:\n    Tee Gift – TBA\n    $3 Pro Shop credit\n    Beverage Cart drink tickets\n    Hot dogs & beverages at turn\n    Coupon for 1 FREE golf club\n    Golfer’s Dinner\n    Event Program\n    $10\,000 Hole-in-One opportunity \nPrizes will be awarded at the Golfer’s Dinner based on team scores (no handicap) \nEVENT SCHEDULE\n    11:30 am – Registration\n    11:45 am – Putting Green Contest Begins\n    1:00 pm – Shotgun Start\n    6:30 pm – Cocktail Hour\n    7:00 pm – Dinner & Prizes \nBeverages available throughout the tournament \nCONTESTS\n    Hole-in-One\n    Pot of Gold\n    Longest Drive\n    50/50 Raffle\n    Closest to Pins\n    Mulligans\n    Prize Raffle\n    Putting Contest \nSPONSORSHIPS & PROGRAM ADVERTISEMENTS\nFor additional information about sponsorship and advertising opportunities\, see ticket details or email josh.bethlehemdems@gmail.com. \nSponsorship Levels\n    Tournament Sponsor ($2\,500)\n    Welcome Bag Sponsor ($1\,500)\n    Golf Cart Sponsor ($1\,250)\n    Score Card Sponsor ($1\,000)\n    Hole-in-One Sponsor ($600)\n    Beverage Cart Sponsor ($500)\n    Non-Golfer Sponsor ($150)\n    Putting Green Sponsor ($150)\n    Tee Sponsor ($100) \nProgram Advertisements\n    Full Page Ad ($200)\n    Half Page Ad ($100)\n    Quarter Page Ad ($50) \nDeadline for Sponsors and Advertisers: September 25th\, 2018\nAll payment\, images\, and copy for print materials must be received by this deadline for inclusion!
URL:https://www.bethlehempadems.com/event/bcdc-annual-golf-tournament/
LOCATION:Bethlehem Golf Club\, 400 Illick's Mill Rd\, Bethlehem\, PA\, 18017\, United States
CATEGORIES:Fundraising Events
ATTACH;FMTTYPE=image/jpeg:https://www.bethlehempadems.com/wp-content/uploads/2018/09/Golf-Tourney-2018.jpg
END:VEVENT
BEGIN:VEVENT
DTSTART;TZID=America/New_York:20180929T120000
DTEND;TZID=America/New_York:20180929T180000
DTSTAMP:20260424T071746
CREATED:20180802T225419Z
LAST-MODIFIED:20180802T225419Z
UID:604-1538222400-1538244000@www.bethlehempadems.com
SUMMARY:16th Annual LVLC Golf Tournament
DESCRIPTION:Benefiting the Council’s Community Service and Education Committee Projects (which include TeenWorks\, Big Brothers Big Sisters\, Bowl for Kids Sakes\, Lehigh Valley Workers Memorial\, LVLC Community Service\, and the United Way among others) \nFor more information\, registration info\, prizes and lots more\, download the complete registration pamphlet HERE.
URL:https://www.bethlehempadems.com/event/16th-annual-lvlc-golf-tournament/
LOCATION:Blue Shamrock Golf Club\, 2230 Fireline Road\, Palmerton\, PA\, 18071\, United States
CATEGORIES:Fundraising Events
ATTACH;FMTTYPE=image/jpeg:https://www.bethlehempadems.com/wp-content/uploads/2018/08/2018lvlcgolftourney.jpg
END:VEVENT
BEGIN:VEVENT
DTSTART;TZID=America/New_York:20180913T190000
DTEND;TZID=America/New_York:20180913T203000
DTSTAMP:20260424T071746
CREATED:20180804T152923Z
LAST-MODIFIED:20180804T152923Z
UID:614-1536865200-1536870600@www.bethlehempadems.com
SUMMARY:Meet & Greet with Mark Pinsley
DESCRIPTION:Meet and Greet with Mark Pinsley\, candidate for PA State Senate in the 16th District \nDrinks and appetizers will be served\, with free AVEDA samples for the first 25 guests and a raffle for an $800 Evolve Salon & Spa gift card.
URL:https://www.bethlehempadems.com/event/meet-greet-with-mark-pinsley/
LOCATION:Evolve Lifestyle Salon and Spa\, 2880 Center Valley Parkway\, Suite 610\, Center Valley\, PA\, 18034\, United States
CATEGORIES:Candidate Event,Fundraising Events
ATTACH;FMTTYPE=image/png:https://www.bethlehempadems.com/wp-content/uploads/2018/08/pinsleyspafundraiser.png
END:VEVENT
BEGIN:VEVENT
DTSTART;TZID=America/New_York:20180906T190000
DTEND;TZID=America/New_York:20180906T220000
DTSTAMP:20260424T071746
CREATED:20180818T003222Z
LAST-MODIFIED:20180818T003222Z
UID:677-1536260400-1536271200@www.bethlehempadems.com
SUMMARY:Sing For Change
DESCRIPTION:A fundraiser for Jason Ruff for State Representative (PA-183) \nCome out to hear great music from Phil Stahl\, or sing karaoke\, or step up to the open mic!
URL:https://www.bethlehempadems.com/event/sing-for-change/
LOCATION:Best Station Hotel\, 4225 Best Station Road\, Slatington\, PA\, 18080\, United States
CATEGORIES:Candidate Event,Fundraising Events
ATTACH;FMTTYPE=image/jpeg:https://www.bethlehempadems.com/wp-content/uploads/2018/08/sing4change.jpg
ORGANIZER;CN="Jason Ruff for State Representative":MAILTO:becky@votejasonruff.com
END:VEVENT
BEGIN:VEVENT
DTSTART;TZID=America/New_York:20180903T120000
DTEND;TZID=America/New_York:20180903T170000
DTSTAMP:20260424T071746
CREATED:20180802T221151Z
LAST-MODIFIED:20180802T221151Z
UID:597-1535976000-1535994000@www.bethlehempadems.com
SUMMARY:Lehigh Valley Labor Council's Labor Day Picnic
DESCRIPTION:Labor Day\, Monday\, September 3\, 2018\nWayne Grube Memorial Park\n1200 Willowbrook Road\, Northampton Pa.\n12:00 to 5:00 PM \nHamburgers\, Hot dogs\nClams\, salads\, chips & pretzels\nSoda\, Water\, beer\nPlayground & activities for the kids\nFace painting \n$15.00 per person and must be registered by August 28th\, 2018\n$20.00 at the door with no registration\nChildren under ten: FREE! \nChecks should be mailed to:\nLehigh Valley Labor Council\nc/o Gregg Potter\n510 West Franklin St.\nTopton Pa. 19562
URL:https://www.bethlehempadems.com/event/lehigh-valley-labor-councils-labor-day-picnic/
LOCATION:Wayne Grube Memorial Park\, 1200 Willowbrook Road\, Northampton\, PA\, 18067\, United States
CATEGORIES:Fundraising Events
ATTACH;FMTTYPE=image/jpeg:https://www.bethlehempadems.com/wp-content/uploads/2018/08/Labor-Day-2018.jpg
END:VEVENT
BEGIN:VEVENT
DTSTART;TZID=America/New_York:20180827T180000
DTEND;TZID=America/New_York:20180827T200000
DTSTAMP:20260424T071746
CREATED:20180811T214100Z
LAST-MODIFIED:20180811T214554Z
UID:661-1535392800-1535400000@www.bethlehempadems.com
SUMMARY:Family Fun Night
DESCRIPTION:Fundraiser for Amy Cozze’s run for State Rep. in Pennsylvania’s 137th District. \nICE CREAM\nFARM TOUR\nREFRESHMENTS\nPLAYGROUND
URL:https://www.bethlehempadems.com/event/family-fun-night/
LOCATION:Klein Farms Dairy & Creamery\, 401 Klein Road\, Easton\, PA\, 18040\, United States
CATEGORIES:Candidate Event,Fundraising Events
ATTACH;FMTTYPE=image/jpeg:https://www.bethlehempadems.com/wp-content/uploads/2018/08/Klein-Farms.jpg
ORGANIZER;CN="Amy Cozze for State Representative":MAILTO:amycozzeevents@gmail.com
END:VEVENT
BEGIN:VEVENT
DTSTART;TZID=America/New_York:20180824T190000
DTEND;TZID=America/New_York:20180824T220000
DTSTAMP:20260424T071746
CREATED:20180811T215211Z
LAST-MODIFIED:20180811T215309Z
UID:666-1535137200-1535148000@www.bethlehempadems.com
SUMMARY:The Outpour
DESCRIPTION:Larry Fink’s Women’s March Photography Exhibit to benefit Amy Cozze’s run for State Rep. in Pennsylvania’s 137th District & Tarah Probst’s run for State Senate (PA-40th). \nChecks payable to:\nThe Raucous Resistance\n515 N Fifth St\nStroudsburg\, PA 18360\nSilver- $50\, Gold- $250\, Aficionado- $500 (includes 8″x 11″\nlimited edition print)\, Exhibit- $1000\, Presenting- $3000
URL:https://www.bethlehempadems.com/event/the-outpour/
LOCATION:Gifts for the Good Life\, 14 West Main Street\, Pen Argyl\, PA\, 18072\, United States
CATEGORIES:Candidate Event,Fundraising Events
ATTACH;FMTTYPE=image/jpeg:https://www.bethlehempadems.com/wp-content/uploads/2018/08/outpour_invitation_5x7.jpg
ORGANIZER;CN="Amy Cozze for State Representative":MAILTO:amycozzeevents@gmail.com
END:VEVENT
BEGIN:VEVENT
DTSTART;TZID=America/New_York:20180815T070000
DTEND;TZID=America/New_York:20180815T220000
DTSTAMP:20260424T071746
CREATED:20180811T214215Z
LAST-MODIFIED:20180811T214215Z
UID:655-1534316400-1534370400@www.bethlehempadems.com
SUMMARY:Strike Out Concert Night
DESCRIPTION:A Benefit raising money for Amy Cozze’s run for State Representative in the PA-137th District.
URL:https://www.bethlehempadems.com/event/strike-out-concert-night/
LOCATION:Coca Cola Park\, 1050 Iron Pigs Way\, Allentown\, PA\, 18109\, United States
CATEGORIES:Candidate Event,Fundraising Events
ATTACH;FMTTYPE=image/jpeg:https://www.bethlehempadems.com/wp-content/uploads/2018/08/Strike-Out-Cancer.jpg
ORGANIZER;CN="Amy Cozze for State Representative":MAILTO:amycozzeevents@gmail.com
END:VEVENT
BEGIN:VEVENT
DTSTART;TZID=America/New_York:20180729T130000
DTEND;TZID=America/New_York:20180729T170000
DTSTAMP:20260424T071746
CREATED:20180719T192919Z
LAST-MODIFIED:20180720T001145Z
UID:199-1532869200-1532883600@www.bethlehempadems.com
SUMMARY:Annual BCDC Picnic
DESCRIPTION:Join us for the BCDC Annual Picnic at Bethlehem Township Municipal Park! Admission is $20 (free for children under 12) and the event will feature: \n– Democratic Speakers (Candidates & Officials)\n– $100 gift card door prize\n– 50/50 raffle\n– Tricky tray auction\n– Games (quoits\, bocci\, sand volleyball\, badminton\, horseshoes)\n– Face painting\n– Caricatures\n– Live music by January Noon \nThis is a rain or shine event. \nThe menu will include hamburgers\, hot dogs\, chicken breast\, veggie burgers\, garden and deli salads\, corn on the cob\, baked beans\, and beverages. \nContact us to become a sponsor or place an ad in our full-color program! \n– Platinum sponsorship: $1\,500\n– Gold sponsorship: $1\,000\n– Silver sponsorship: $500 \n– Full page ad: $175\n– Half page ad: $90\n– Quarter page ad: $60
URL:https://www.bethlehempadems.com/event/annual-bcdc-picnic/
LOCATION:Bethlehem Township Municipal Park\, 2900 Farmersville Road\, Bethlehem\, PA\, 18020\, United States
CATEGORIES:Fundraising Events
ATTACH;FMTTYPE=image/jpeg:https://www.bethlehempadems.com/wp-content/uploads/2018/07/2018-annual-bcdc-picnic.jpg
END:VEVENT
END:VCALENDAR