BEGIN:VCALENDAR
VERSION:2.0
PRODID:-//Bethlehem City Democratic Committee - ECPv6.15.20//NONSGML v1.0//EN
CALSCALE:GREGORIAN
METHOD:PUBLISH
X-ORIGINAL-URL:https://www.bethlehempadems.com
X-WR-CALDESC:Events for Bethlehem City Democratic Committee
REFRESH-INTERVAL;VALUE=DURATION:PT1H
X-Robots-Tag:noindex
X-PUBLISHED-TTL:PT1H
BEGIN:VTIMEZONE
TZID:America/New_York
BEGIN:DAYLIGHT
TZOFFSETFROM:-0500
TZOFFSETTO:-0400
TZNAME:EDT
DTSTART:20230312T070000
END:DAYLIGHT
BEGIN:STANDARD
TZOFFSETFROM:-0400
TZOFFSETTO:-0500
TZNAME:EST
DTSTART:20231105T060000
END:STANDARD
BEGIN:DAYLIGHT
TZOFFSETFROM:-0500
TZOFFSETTO:-0400
TZNAME:EDT
DTSTART:20240310T070000
END:DAYLIGHT
BEGIN:STANDARD
TZOFFSETFROM:-0400
TZOFFSETTO:-0500
TZNAME:EST
DTSTART:20241103T060000
END:STANDARD
BEGIN:DAYLIGHT
TZOFFSETFROM:-0500
TZOFFSETTO:-0400
TZNAME:EDT
DTSTART:20250309T070000
END:DAYLIGHT
BEGIN:STANDARD
TZOFFSETFROM:-0400
TZOFFSETTO:-0500
TZNAME:EST
DTSTART:20251102T060000
END:STANDARD
END:VTIMEZONE
BEGIN:VEVENT
DTSTART;TZID=America/New_York:20240714T130000
DTEND;TZID=America/New_York:20240714T150000
DTSTAMP:20260425T115313
CREATED:20240623T203824Z
LAST-MODIFIED:20240708T233524Z
UID:1834-1720962000-1720969200@www.bethlehempadems.com
SUMMARY:2024 Summer Picnic (BCDC & LV4All)
DESCRIPTION:We are very excited to partner with Lehigh Valley 4 All PAC for this year’s annual picnic … and even more excited to be able to celebrate IN the city of Bethlehem this year\, at the Community Center in the Lynfield neighborhood on Bethlehem’s South Side. We hope to have a lot of our Democratic elected officials and candidates celebrate with us … and because it’s a “pot luck” party (see below) we hope that lots of our committee members will want to join us! We’ll be supplying burgers\, hotdogs\, drinks and more (If you’re coming\, PLEASE RSVP to the EMAIL BELOW … we need to know how many grillables and drinks to provide.) \n                        YOU ARE INVITED!!!!\nTO THE PICNIC OF THE YEAR!\nSUNDAY JULY 14 (rain date June 21)\n1-3 PM\, LYNFIELD COMMUNITY CENTER\n1889 LYNFIELD DR.\, BETHLEHEM\, PA 18015\n\nSponsored by LV4All(PAC) &\nBethlehem City Democratic Committee \nBurgers\, Hot Dogs & drinks provided\nBRING Your Chair & a covered dish to share! \nIf your last name starts with:\nA-F: bring an appetizer (chips and dip\, crackers and cheese etc)\nG-L: bring a salad of any kind\nM-R: bring a side dish of any kind (mac and cheese\, potatoes\, pasta etc)\nS-Z: bring a dessert \nPrizes\, kid friendly\, music\, games\, fellowship.\nLet’s get together and feel alright! \nLV4A and BCDC members please RSVP to lehighvalleyforall@gmail.com\nLynfield residents RSVP to Roy Ortiz
URL:https://www.bethlehempadems.com/event/2024-summer-picnic-bcdc-lv4all/
LOCATION:Lynfield Community Center\, 1889 LYNFIELD DR.\,\, Bethlehem\, PA\, 18015\, United States
CATEGORIES:Democratic Party Event
ATTACH;FMTTYPE=image/jpeg:https://www.bethlehempadems.com/wp-content/uploads/2021/07/annual-bcdc-picnic.jpg
END:VEVENT
END:VCALENDAR