BEGIN:VCALENDAR
VERSION:2.0
PRODID:-//Bethlehem City Democratic Committee - ECPv6.15.20//NONSGML v1.0//EN
CALSCALE:GREGORIAN
METHOD:PUBLISH
X-ORIGINAL-URL:https://www.bethlehempadems.com
X-WR-CALDESC:Events for Bethlehem City Democratic Committee
REFRESH-INTERVAL;VALUE=DURATION:PT1H
X-Robots-Tag:noindex
X-PUBLISHED-TTL:PT1H
BEGIN:VTIMEZONE
TZID:America/New_York
BEGIN:DAYLIGHT
TZOFFSETFROM:-0500
TZOFFSETTO:-0400
TZNAME:EDT
DTSTART:20230312T070000
END:DAYLIGHT
BEGIN:STANDARD
TZOFFSETFROM:-0400
TZOFFSETTO:-0500
TZNAME:EST
DTSTART:20231105T060000
END:STANDARD
BEGIN:DAYLIGHT
TZOFFSETFROM:-0500
TZOFFSETTO:-0400
TZNAME:EDT
DTSTART:20240310T070000
END:DAYLIGHT
BEGIN:STANDARD
TZOFFSETFROM:-0400
TZOFFSETTO:-0500
TZNAME:EST
DTSTART:20241103T060000
END:STANDARD
BEGIN:DAYLIGHT
TZOFFSETFROM:-0500
TZOFFSETTO:-0400
TZNAME:EDT
DTSTART:20250309T070000
END:DAYLIGHT
BEGIN:STANDARD
TZOFFSETFROM:-0400
TZOFFSETTO:-0500
TZNAME:EST
DTSTART:20251102T060000
END:STANDARD
END:VTIMEZONE
BEGIN:VEVENT
DTSTART;TZID=America/New_York:20240204T120000
DTEND;TZID=America/New_York:20240204T140000
DTSTAMP:20260425T193643
CREATED:20240122T215254Z
LAST-MODIFIED:20240122T220322Z
UID:1735-1707048000-1707055200@www.bethlehempadems.com
SUMMARY:2024 Petition Signing Event (Part 4)
DESCRIPTION:This is a co-sponsored event with The Bethlehem City Democratic Committee and Lehigh Valley 4 All. \nThis is the fourth and final day of our petition events … your opportunity to support Democratic candidates running this spring for President\, US Senate\, US Congress and our state representatives (along with a whole bunch of other\, state-wide races)! Petitions will be available for BOTH counties covering Bethlehem. \nWe’ll have petitions available for all Democrats looking to get on our spring primary ballot (including everyone that the State Party has endorsed). If any PCPs or other volunteers want to circulate petitions in their home precincts\, let us know! \nFor more info\, contact Kathy Harrington or Mark Moss at: Kathy’s email or Mark’s email\, respectively.  \nOr just show up and SIGN!! We’ll have runners to greet you in the parking lot and deliver whatever petitions you are eligible to sign.
URL:https://www.bethlehempadems.com/event/2024-petition-signing-event-part-4/
LOCATION:United Steelworkers Union Hall\, 53 E. Lehigh St\,\, Bethlehem\, PA\, 18018\, United States
CATEGORIES:Candidate Event,Democratic Party Event
ATTACH;FMTTYPE=image/jpeg:https://www.bethlehempadems.com/wp-content/uploads/2019/10/steelworkers-hall-bethlehem.jpg
END:VEVENT
END:VCALENDAR