BEGIN:VCALENDAR
VERSION:2.0
PRODID:-//Bethlehem City Democratic Committee - ECPv6.15.20//NONSGML v1.0//EN
CALSCALE:GREGORIAN
METHOD:PUBLISH
X-ORIGINAL-URL:https://www.bethlehempadems.com
X-WR-CALDESC:Events for Bethlehem City Democratic Committee
REFRESH-INTERVAL;VALUE=DURATION:PT1H
X-Robots-Tag:noindex
X-PUBLISHED-TTL:PT1H
BEGIN:VTIMEZONE
TZID:America/New_York
BEGIN:DAYLIGHT
TZOFFSETFROM:-0500
TZOFFSETTO:-0400
TZNAME:EDT
DTSTART:20170312T070000
END:DAYLIGHT
BEGIN:STANDARD
TZOFFSETFROM:-0400
TZOFFSETTO:-0500
TZNAME:EST
DTSTART:20171105T060000
END:STANDARD
BEGIN:DAYLIGHT
TZOFFSETFROM:-0500
TZOFFSETTO:-0400
TZNAME:EDT
DTSTART:20180311T070000
END:DAYLIGHT
BEGIN:STANDARD
TZOFFSETFROM:-0400
TZOFFSETTO:-0500
TZNAME:EST
DTSTART:20181104T060000
END:STANDARD
BEGIN:DAYLIGHT
TZOFFSETFROM:-0500
TZOFFSETTO:-0400
TZNAME:EDT
DTSTART:20190310T070000
END:DAYLIGHT
BEGIN:STANDARD
TZOFFSETFROM:-0400
TZOFFSETTO:-0500
TZNAME:EST
DTSTART:20191103T060000
END:STANDARD
END:VTIMEZONE
BEGIN:VEVENT
DTSTART;TZID=America/New_York:20180904T170000
DTEND;TZID=America/New_York:20180904T200000
DTSTAMP:20260424T151108
CREATED:20180828T213251Z
LAST-MODIFIED:20180828T213251Z
UID:716-1536080400-1536091200@www.bethlehempadems.com
SUMMARY:Wild for Congress General Election Kick-Off
DESCRIPTION:
URL:https://www.bethlehempadems.com/event/wild-for-congress-general-election-kick-off/
LOCATION:PA-07 DCCC Battlestation HQ\, 2285 Schoenersville Rd.\, Suite 2359\, Bethlehem\, PA\, 18017\, United States
CATEGORIES:Candidate Event
ATTACH;FMTTYPE=image/jpeg:https://www.bethlehempadems.com/wp-content/uploads/2018/07/susan-wild.jpg
END:VEVENT
BEGIN:VEVENT
DTSTART;TZID=America/New_York:20180903T170000
DTEND;TZID=America/New_York:20180903T200000
DTSTAMP:20260424T151108
CREATED:20180828T213030Z
LAST-MODIFIED:20180828T213030Z
UID:714-1535994000-1536004800@www.bethlehempadems.com
SUMMARY:Wild for Congress Phone Bank & Canvass (Bethlehem)
DESCRIPTION:
URL:https://www.bethlehempadems.com/event/wild-for-congress-phone-bank-canvass-bethlehem-8/
LOCATION:PA-07 DCCC Battlestation HQ\, 2285 Schoenersville Rd.\, Suite 2359\, Bethlehem\, PA\, 18017\, United States
CATEGORIES:Candidate Event
ATTACH;FMTTYPE=image/jpeg:https://www.bethlehempadems.com/wp-content/uploads/2018/07/susan-wild-2.jpg
END:VEVENT
BEGIN:VEVENT
DTSTART;TZID=America/New_York:20180902T100000
DTEND;TZID=America/New_York:20180902T160000
DTSTAMP:20260424T151109
CREATED:20180828T212816Z
LAST-MODIFIED:20180828T212816Z
UID:712-1535882400-1535904000@www.bethlehempadems.com
SUMMARY:Wild for Congress Phone Bank & Canvass (Easton)
DESCRIPTION:Three shifts!\n10am-12pm\n12pm-2pm\n2pm-4pm
URL:https://www.bethlehempadems.com/event/wild-for-congress-phone-bank-canvass-easton-3/
LOCATION:Easton Phone Bank & Canvass\, 91 Larry Holmes Dr.\, Easton\, PA\, 18042\, United States
CATEGORIES:Candidate Event
ATTACH;FMTTYPE=image/jpeg:https://www.bethlehempadems.com/wp-content/uploads/2018/07/susan-wild.jpg
END:VEVENT
BEGIN:VEVENT
DTSTART;TZID=America/New_York:20180902T090000
DTEND;TZID=America/New_York:20180902T200000
DTSTAMP:20260424T151109
CREATED:20180828T212308Z
LAST-MODIFIED:20180828T212308Z
UID:708-1535878800-1535918400@www.bethlehempadems.com
SUMMARY:Wild for Congress Phone Bank & Canvass (Bethlehem)
DESCRIPTION:Three shifts!\n9am-12pm\n1pm-4pm\n5pm-8pm
URL:https://www.bethlehempadems.com/event/wild-for-congress-phone-bank-canvass-bethlehem-7/
LOCATION:PA-07 DCCC Battlestation HQ\, 2285 Schoenersville Rd.\, Suite 2359\, Bethlehem\, PA\, 18017\, United States
CATEGORIES:Candidate Event
ATTACH;FMTTYPE=image/jpeg:https://www.bethlehempadems.com/wp-content/uploads/2018/07/susan-wild.jpg
END:VEVENT
BEGIN:VEVENT
DTSTART;TZID=America/New_York:20180902T090000
DTEND;TZID=America/New_York:20180902T200000
DTSTAMP:20260424T151109
CREATED:20180828T211906Z
LAST-MODIFIED:20180828T211925Z
UID:703-1535878800-1535918400@www.bethlehempadems.com
SUMMARY:Wild for Congress Phone Bank & Canvass (Allentown)
DESCRIPTION:Three shifts!\n9am-12pm\n1pm-4pm\n5pm-8pm
URL:https://www.bethlehempadems.com/event/wild-for-congress-phone-bank-canvass/
LOCATION:Wild for Congress Allentown Field Office\, 1122 W. Hamilton St.\, Allentown\, PA\, 18101\, United States
CATEGORIES:Candidate Event
ATTACH;FMTTYPE=image/jpeg:https://www.bethlehempadems.com/wp-content/uploads/2018/07/susan-wild.jpg
END:VEVENT
BEGIN:VEVENT
DTSTART;TZID=America/New_York:20180901T110000
DTEND;TZID=America/New_York:20180901T160000
DTSTAMP:20260424T151109
CREATED:20180829T031545Z
LAST-MODIFIED:20180829T031545Z
UID:731-1535799600-1535817600@www.bethlehempadems.com
SUMMARY:Back to School Voter Registration
DESCRIPTION:Two Shifts!\n11am-2pm\n2pm-4pm
URL:https://www.bethlehempadems.com/event/back-to-school-voter-registration/
LOCATION:Harrison-Morton Middle School\, 137 N 2nd St.\, Allentown\, PA\, 18101\, United States
CATEGORIES:Candidate Event
ATTACH;FMTTYPE=image/jpeg:https://www.bethlehempadems.com/wp-content/uploads/2018/07/susan-wild.jpg
END:VEVENT
BEGIN:VEVENT
DTSTART;TZID=America/New_York:20180901T100000
DTEND;TZID=America/New_York:20180901T160000
DTSTAMP:20260424T151109
CREATED:20180828T212655Z
LAST-MODIFIED:20180828T212655Z
UID:710-1535796000-1535817600@www.bethlehempadems.com
SUMMARY:Wild for Congress Phone Bank & Canvass (Easton)
DESCRIPTION:Three shifts!\n10am-12pm\n12pm-2pm\n2pm-4pm
URL:https://www.bethlehempadems.com/event/wild-for-congress-phone-bank-canvass-easton-2/
LOCATION:Easton Phone Bank & Canvass\, 91 Larry Holmes Dr.\, Easton\, PA\, 18042\, United States
CATEGORIES:Candidate Event
ATTACH;FMTTYPE=image/jpeg:https://www.bethlehempadems.com/wp-content/uploads/2018/07/susan-wild.jpg
END:VEVENT
BEGIN:VEVENT
DTSTART;TZID=America/New_York:20180901T090000
DTEND;TZID=America/New_York:20180901T200000
DTSTAMP:20260424T151109
CREATED:20180828T212115Z
LAST-MODIFIED:20180828T212115Z
UID:706-1535792400-1535832000@www.bethlehempadems.com
SUMMARY:Wild for Congress Phone Bank & Canvass (Bethlehem)
DESCRIPTION:Three shifts!\n9am-12pm\n1pm-4pm\n5pm-8pm
URL:https://www.bethlehempadems.com/event/wild-for-congress-phone-bank-canvass-bethlehem-6/
LOCATION:PA-07 DCCC Battlestation HQ\, 2285 Schoenersville Rd.\, Suite 2359\, Bethlehem\, PA\, 18017\, United States
CATEGORIES:Candidate Event
ATTACH;FMTTYPE=image/jpeg:https://www.bethlehempadems.com/wp-content/uploads/2018/07/susan-wild.jpg
END:VEVENT
BEGIN:VEVENT
DTSTART;TZID=America/New_York:20180901T090000
DTEND;TZID=America/New_York:20180901T200000
DTSTAMP:20260424T151109
CREATED:20180828T211719Z
LAST-MODIFIED:20180828T211719Z
UID:701-1535792400-1535832000@www.bethlehempadems.com
SUMMARY:Wild for Congress Phone Bank & Canvass (Allentown)
DESCRIPTION:Three shifts!\n9am-12pm\n1pm-4pm\n5pm-8pm
URL:https://www.bethlehempadems.com/event/wild-for-congress-phone-bank-canvass-allentown/
LOCATION:Wild for Congress Allentown Field Office\, 1122 W. Hamilton St.\, Allentown\, PA\, 18101\, United States
CATEGORIES:Candidate Event
ATTACH;FMTTYPE=image/jpeg:https://www.bethlehempadems.com/wp-content/uploads/2018/07/susan-wild.jpg
END:VEVENT
BEGIN:VEVENT
DTSTART;TZID=America/New_York:20180830T170000
DTEND;TZID=America/New_York:20180830T200000
DTSTAMP:20260424T151109
CREATED:20180824T213819Z
LAST-MODIFIED:20180824T213911Z
UID:699-1535648400-1535659200@www.bethlehempadems.com
SUMMARY:Wild for Congress Allentown Office Opening
DESCRIPTION:
URL:https://www.bethlehempadems.com/event/wild-for-congress-allentown-office-opening/
LOCATION:Wild for Congress Allentown Field Office\, 1122 W. Hamilton St.\, Allentown\, PA\, 18101\, United States
CATEGORIES:Candidate Event
ATTACH;FMTTYPE=image/jpeg:https://www.bethlehempadems.com/wp-content/uploads/2018/07/susan-wild.jpg
END:VEVENT
BEGIN:VEVENT
DTSTART;TZID=America/New_York:20180827T180000
DTEND;TZID=America/New_York:20180827T200000
DTSTAMP:20260424T151109
CREATED:20180811T214100Z
LAST-MODIFIED:20180811T214554Z
UID:661-1535392800-1535400000@www.bethlehempadems.com
SUMMARY:Family Fun Night
DESCRIPTION:Fundraiser for Amy Cozze’s run for State Rep. in Pennsylvania’s 137th District. \nICE CREAM\nFARM TOUR\nREFRESHMENTS\nPLAYGROUND
URL:https://www.bethlehempadems.com/event/family-fun-night/
LOCATION:Klein Farms Dairy & Creamery\, 401 Klein Road\, Easton\, PA\, 18040\, United States
CATEGORIES:Candidate Event,Fundraising Events
ATTACH;FMTTYPE=image/jpeg:https://www.bethlehempadems.com/wp-content/uploads/2018/08/Klein-Farms.jpg
ORGANIZER;CN="Amy Cozze for State Representative":MAILTO:amycozzeevents@gmail.com
END:VEVENT
BEGIN:VEVENT
DTSTART;TZID=America/New_York:20180827T170000
DTEND;TZID=America/New_York:20180827T200000
DTSTAMP:20260424T151109
CREATED:20180824T213716Z
LAST-MODIFIED:20180824T214025Z
UID:697-1535389200-1535400000@www.bethlehempadems.com
SUMMARY:Wild for Congress Phone Bank & Canvass (Bethlehem)
DESCRIPTION:
URL:https://www.bethlehempadems.com/event/wild-for-congress-phone-bank-canvass-bethlehem-5/
LOCATION:PA-07 DCCC Battlestation HQ\, 2285 Schoenersville Rd.\, Suite 2359\, Bethlehem\, PA\, 18017\, United States
CATEGORIES:Candidate Event
ATTACH;FMTTYPE=image/jpeg:https://www.bethlehempadems.com/wp-content/uploads/2018/07/susan-wild.jpg
END:VEVENT
BEGIN:VEVENT
DTSTART;TZID=America/New_York:20180826T120000
DTEND;TZID=America/New_York:20180826T200000
DTSTAMP:20260424T151109
CREATED:20180819T025536Z
LAST-MODIFIED:20180819T025718Z
UID:683-1535284800-1535313600@www.bethlehempadems.com
SUMMARY:Wild for Congress Phone Bank & Canvass (Bethlehem)
DESCRIPTION:Three Shifts!\nNoon-2pm\n2pm-5pm\n5pm-8pm
URL:https://www.bethlehempadems.com/event/wild-for-congress-phone-bank-canvass-bethlehem-4/
LOCATION:PA-07 DCCC Battlestation HQ\, 2285 Schoenersville Rd.\, Suite 2359\, Bethlehem\, PA\, 18017\, United States
CATEGORIES:Candidate Event
ATTACH;FMTTYPE=image/jpeg:https://www.bethlehempadems.com/wp-content/uploads/2018/07/susan-wild.jpg
END:VEVENT
BEGIN:VEVENT
DTSTART;TZID=America/New_York:20180826T100000
DTEND;TZID=America/New_York:20180826T190000
DTSTAMP:20260424T151109
CREATED:20180824T213500Z
LAST-MODIFIED:20180824T213500Z
UID:695-1535277600-1535310000@www.bethlehempadems.com
SUMMARY:Phone Bank & Canvass (Easton)
DESCRIPTION:Three shifts!\n10am-1pm\n1pm-4pm\n4pm-7pm
URL:https://www.bethlehempadems.com/event/phone-bank-canvass-easton-2/
LOCATION:Easton Phone Bank & Canvass\, 91 Larry Holmes Dr.\, Easton\, PA\, 18042\, United States
CATEGORIES:Candidate Event
ATTACH;FMTTYPE=image/jpeg:https://www.bethlehempadems.com/wp-content/uploads/2018/07/susan-wild.jpg
END:VEVENT
BEGIN:VEVENT
DTSTART;TZID=America/New_York:20180826T090000
DTEND;TZID=America/New_York:20180826T200000
DTSTAMP:20260424T151109
CREATED:20180824T213100Z
LAST-MODIFIED:20180824T213100Z
UID:691-1535274000-1535313600@www.bethlehempadems.com
SUMMARY:Phone Bank & Canvass (Allentown)
DESCRIPTION:Three shifts!\n9am-12pm (noon)\n1pm-4pm\n5pm-8pm
URL:https://www.bethlehempadems.com/event/phone-bank-canvass-allentown-2/
LOCATION:Wild for Congress Allentown Field Office\, 1122 W. Hamilton St.\, Allentown\, PA\, 18101\, United States
CATEGORIES:Candidate Event
ATTACH;FMTTYPE=image/jpeg:https://www.bethlehempadems.com/wp-content/uploads/2018/07/susan-wild.jpg
END:VEVENT
BEGIN:VEVENT
DTSTART;TZID=America/New_York:20180825T110000
DTEND;TZID=America/New_York:20180825T200000
DTSTAMP:20260424T151109
CREATED:20180819T025403Z
LAST-MODIFIED:20180819T025403Z
UID:681-1535194800-1535227200@www.bethlehempadems.com
SUMMARY:Wild for Congress Phone Bank & Canvass (Bethlehem)
DESCRIPTION:Three Shifts!\n11am-2pm\n2pm-5pm\n5pm-8pm
URL:https://www.bethlehempadems.com/event/wild-for-congress-phone-bank-canvass-bethlehem-3/
LOCATION:PA-07 DCCC Battlestation HQ\, 2285 Schoenersville Rd.\, Suite 2359\, Bethlehem\, PA\, 18017\, United States
CATEGORIES:Candidate Event
ATTACH;FMTTYPE=image/jpeg:https://www.bethlehempadems.com/wp-content/uploads/2018/07/susan-wild.jpg
END:VEVENT
BEGIN:VEVENT
DTSTART;TZID=America/New_York:20180825T100000
DTEND;TZID=America/New_York:20180825T190000
DTSTAMP:20260424T151109
CREATED:20180824T213332Z
LAST-MODIFIED:20180824T213332Z
UID:693-1535191200-1535223600@www.bethlehempadems.com
SUMMARY:Phone Bank & Canvass (Easton)
DESCRIPTION:Three shifts!\n10am-1pm\n1pm-4pm\n4pm-7pm
URL:https://www.bethlehempadems.com/event/phone-bank-canvass-easton/
LOCATION:Easton Phone Bank & Canvass\, 91 Larry Holmes Dr.\, Easton\, PA\, 18042\, United States
CATEGORIES:Candidate Event
ATTACH;FMTTYPE=image/jpeg:https://www.bethlehempadems.com/wp-content/uploads/2018/07/susan-wild.jpg
END:VEVENT
BEGIN:VEVENT
DTSTART;TZID=America/New_York:20180825T090000
DTEND;TZID=America/New_York:20180825T200000
DTSTAMP:20260424T151109
CREATED:20180824T212918Z
LAST-MODIFIED:20180824T212918Z
UID:687-1535187600-1535227200@www.bethlehempadems.com
SUMMARY:Phone Bank & Canvass (Allentown)
DESCRIPTION:Three shifts!\n9am-12pm (noon)\n1pm-4pm\n5pm-8pm
URL:https://www.bethlehempadems.com/event/phone-bank-canvass-allentown/
LOCATION:Wild for Congress Allentown Field Office\, 1122 W. Hamilton St.\, Allentown\, PA\, 18101\, United States
CATEGORIES:Candidate Event
ATTACH;FMTTYPE=image/jpeg:https://www.bethlehempadems.com/wp-content/uploads/2018/07/susan-wild.jpg
END:VEVENT
BEGIN:VEVENT
DTSTART;TZID=America/New_York:20180824T190000
DTEND;TZID=America/New_York:20180824T220000
DTSTAMP:20260424T151109
CREATED:20180811T215211Z
LAST-MODIFIED:20180811T215309Z
UID:666-1535137200-1535148000@www.bethlehempadems.com
SUMMARY:The Outpour
DESCRIPTION:Larry Fink’s Women’s March Photography Exhibit to benefit Amy Cozze’s run for State Rep. in Pennsylvania’s 137th District & Tarah Probst’s run for State Senate (PA-40th). \nChecks payable to:\nThe Raucous Resistance\n515 N Fifth St\nStroudsburg\, PA 18360\nSilver- $50\, Gold- $250\, Aficionado- $500 (includes 8″x 11″\nlimited edition print)\, Exhibit- $1000\, Presenting- $3000
URL:https://www.bethlehempadems.com/event/the-outpour/
LOCATION:Gifts for the Good Life\, 14 West Main Street\, Pen Argyl\, PA\, 18072\, United States
CATEGORIES:Candidate Event,Fundraising Events
ATTACH;FMTTYPE=image/jpeg:https://www.bethlehempadems.com/wp-content/uploads/2018/08/outpour_invitation_5x7.jpg
ORGANIZER;CN="Amy Cozze for State Representative":MAILTO:amycozzeevents@gmail.com
END:VEVENT
BEGIN:VEVENT
DTSTART;TZID=America/New_York:20180820T170000
DTEND;TZID=America/New_York:20180820T200000
DTSTAMP:20260424T151109
CREATED:20180819T025143Z
LAST-MODIFIED:20180819T025143Z
UID:679-1534784400-1534795200@www.bethlehempadems.com
SUMMARY:Wild for Congress Phone Bank (Bethlehem)
DESCRIPTION:
URL:https://www.bethlehempadems.com/event/wild-for-congress-phone-bank-bethlehem/
LOCATION:PA-07 DCCC Battlestation HQ\, 2285 Schoenersville Rd.\, Suite 2359\, Bethlehem\, PA\, 18017\, United States
CATEGORIES:Candidate Event
ATTACH;FMTTYPE=image/jpeg:https://www.bethlehempadems.com/wp-content/uploads/2018/07/susan-wild.jpg
END:VEVENT
BEGIN:VEVENT
DTSTART;TZID=America/New_York:20180819T120000
DTEND;TZID=America/New_York:20180819T200000
DTSTAMP:20260424T151109
CREATED:20180810T151428Z
LAST-MODIFIED:20180810T151428Z
UID:649-1534680000-1534708800@www.bethlehempadems.com
SUMMARY:Wild for Congress Phone Bank & Canvass (Bethlehem)
DESCRIPTION:Three Shifts!\n12pm-2pm\n2-pm-5pm\n5pm-8pm
URL:https://www.bethlehempadems.com/event/wild-for-congress-phone-bank-canvass-bethlehem-2/
LOCATION:PA-07 DCCC Battlestation HQ\, 2285 Schoenersville Rd.\, Suite 2359\, Bethlehem\, PA\, 18017\, United States
CATEGORIES:Candidate Event
ATTACH;FMTTYPE=image/jpeg:https://www.bethlehempadems.com/wp-content/uploads/2018/07/susan-wild.jpg
END:VEVENT
BEGIN:VEVENT
DTSTART;TZID=America/New_York:20180818T110000
DTEND;TZID=America/New_York:20180818T200000
DTSTAMP:20260424T151109
CREATED:20180810T151245Z
LAST-MODIFIED:20180810T151245Z
UID:647-1534590000-1534622400@www.bethlehempadems.com
SUMMARY:Wild for Congress Phone Bank & Canvass (Bethlehem)
DESCRIPTION:Three Shifts!\n11am-2pm\n2pm-5pm\n5pm-8pm
URL:https://www.bethlehempadems.com/event/wild-for-congress-phone-bank-canvass-bethlehem/
LOCATION:PA-07 DCCC Battlestation HQ\, 2285 Schoenersville Rd.\, Suite 2359\, Bethlehem\, PA\, 18017\, United States
CATEGORIES:Candidate Event
ATTACH;FMTTYPE=image/jpeg:https://www.bethlehempadems.com/wp-content/uploads/2018/07/susan-wild.jpg
END:VEVENT
BEGIN:VEVENT
DTSTART;TZID=America/New_York:20180818T110000
DTEND;TZID=America/New_York:20180818T130000
DTSTAMP:20260424T151109
CREATED:20180810T142705Z
LAST-MODIFIED:20180812T021443Z
UID:625-1534590000-1534597200@www.bethlehempadems.com
SUMMARY:Voter Registration (Allentown)
DESCRIPTION:
URL:https://www.bethlehempadems.com/event/voter-registration-at-the-parade/
LOCATION:Downtown Allentown\, 435 Hamilton St.\, Allentown\, PA\, 18101\, United States
CATEGORIES:Candidate Event
ATTACH;FMTTYPE=image/jpeg:https://www.bethlehempadems.com/wp-content/uploads/2018/07/susan-wild.jpg
END:VEVENT
BEGIN:VEVENT
DTSTART;TZID=America/New_York:20180818T100000
DTEND;TZID=America/New_York:20180818T190000
DTSTAMP:20260424T151109
CREATED:20180810T151010Z
LAST-MODIFIED:20180810T151010Z
UID:645-1534586400-1534618800@www.bethlehempadems.com
SUMMARY:Wild for Congress Phone Bank & Canvass (Easton)
DESCRIPTION:Three Shifts!\n10am-1pm\n1pm-4pm\n4pm-7pm
URL:https://www.bethlehempadems.com/event/wild-for-congress-phone-bank-canvass-easton/
LOCATION:Easton Phone Bank & Canvass\, 91 Larry Holmes Dr.\, Easton\, PA\, 18042\, United States
CATEGORIES:Candidate Event
ATTACH;FMTTYPE=image/jpeg:https://www.bethlehempadems.com/wp-content/uploads/2018/07/susan-wild.jpg
END:VEVENT
BEGIN:VEVENT
DTSTART;TZID=America/New_York:20180816T170000
DTEND;TZID=America/New_York:20180816T190000
DTSTAMP:20260424T151109
CREATED:20180810T144442Z
LAST-MODIFIED:20180810T144641Z
UID:635-1534438800-1534446000@www.bethlehempadems.com
SUMMARY:Wild For Congress Phone Bank (Lower Macungie)
DESCRIPTION:
URL:https://www.bethlehempadems.com/event/phone-bank-wild-for-congress-2/
LOCATION:Lower Macungie Phone Bank\, 6864 Crown Ct.\, Macungie\, PA\, 18062\, United States
CATEGORIES:Candidate Event
ATTACH;FMTTYPE=image/jpeg:https://www.bethlehempadems.com/wp-content/uploads/2018/07/susan-wild.jpg
END:VEVENT
BEGIN:VEVENT
DTSTART;TZID=America/New_York:20180815T070000
DTEND;TZID=America/New_York:20180815T220000
DTSTAMP:20260424T151109
CREATED:20180811T214215Z
LAST-MODIFIED:20180811T214215Z
UID:655-1534316400-1534370400@www.bethlehempadems.com
SUMMARY:Strike Out Concert Night
DESCRIPTION:A Benefit raising money for Amy Cozze’s run for State Representative in the PA-137th District.
URL:https://www.bethlehempadems.com/event/strike-out-concert-night/
LOCATION:Coca Cola Park\, 1050 Iron Pigs Way\, Allentown\, PA\, 18109\, United States
CATEGORIES:Candidate Event,Fundraising Events
ATTACH;FMTTYPE=image/jpeg:https://www.bethlehempadems.com/wp-content/uploads/2018/08/Strike-Out-Cancer.jpg
ORGANIZER;CN="Amy Cozze for State Representative":MAILTO:amycozzeevents@gmail.com
END:VEVENT
BEGIN:VEVENT
DTSTART;TZID=America/New_York:20180813T170000
DTEND;TZID=America/New_York:20180813T200000
DTSTAMP:20260424T151109
CREATED:20180810T144248Z
LAST-MODIFIED:20180810T144823Z
UID:633-1534179600-1534190400@www.bethlehempadems.com
SUMMARY:Wild for Congress Phone Bank (Bethlehem)
DESCRIPTION:
URL:https://www.bethlehempadems.com/event/phone-bank-wild-for-congress/
LOCATION:PA-07 DCCC Battlestation HQ\, 2285 Schoenersville Rd.\, Suite 2359\, Bethlehem\, PA\, 18017\, United States
CATEGORIES:Candidate Event
ATTACH;FMTTYPE=image/jpeg:https://www.bethlehempadems.com/wp-content/uploads/2018/07/susan-wild.jpg
END:VEVENT
BEGIN:VEVENT
DTSTART;TZID=America/New_York:20180813T170000
DTEND;TZID=America/New_York:20180813T200000
DTSTAMP:20260424T151109
CREATED:20180810T144050Z
LAST-MODIFIED:20180810T144925Z
UID:631-1534179600-1534190400@www.bethlehempadems.com
SUMMARY:Wild for Congress Canvassing (Allentown)
DESCRIPTION:
URL:https://www.bethlehempadems.com/event/canvass-wild-for-congress/
LOCATION:Wild for Congress Allentown Office\, 1122 Hamilton St.\, Allentown\, PA\, 18102\, United States
CATEGORIES:Candidate Event
ATTACH;FMTTYPE=image/jpeg:https://www.bethlehempadems.com/wp-content/uploads/2018/07/susan-wild.jpg
END:VEVENT
BEGIN:VEVENT
DTSTART;TZID=America/New_York:20180812T120000
DTEND;TZID=America/New_York:20180812T200000
DTSTAMP:20260424T151109
CREATED:20180810T143701Z
LAST-MODIFIED:20180811T204143Z
UID:629-1534075200-1534104000@www.bethlehempadems.com
SUMMARY:Wild for Congress Phone Bank & Canvass (Bethlehem)
DESCRIPTION:Three Shifts!\n12pm-2pm\n2pm-5pm\n5pm-8pm
URL:https://www.bethlehempadems.com/event/phone-bank-canvass-wild-for-congress/
LOCATION:PA-07 DCCC Battlestation HQ\, 2285 Schoenersville Rd.\, Suite 2359\, Bethlehem\, PA\, 18017\, United States
CATEGORIES:Candidate Event
ATTACH;FMTTYPE=image/jpeg:https://www.bethlehempadems.com/wp-content/uploads/2018/07/susan-wild.jpg
END:VEVENT
BEGIN:VEVENT
DTSTART;TZID=America/New_York:20180811T110000
DTEND;TZID=America/New_York:20180811T200000
DTSTAMP:20260424T151109
CREATED:20180810T143215Z
LAST-MODIFIED:20180810T145433Z
UID:627-1533985200-1534017600@www.bethlehempadems.com
SUMMARY:Wild for Congress Phone Bank & Canvass (Bethlehem)
DESCRIPTION:Three Shifts!!\n11am-2pm\n2pm-5pm\n5pm-8pm
URL:https://www.bethlehempadems.com/event/phone-bank-and-canvass-wild-for-congress-2/
LOCATION:PA-07 DCCC Battlestation HQ\, 2285 Schoenersville Rd.\, Suite 2359\, Bethlehem\, PA\, 18017\, United States
CATEGORIES:Candidate Event
ATTACH;FMTTYPE=image/jpeg:https://www.bethlehempadems.com/wp-content/uploads/2018/07/susan-wild.jpg
END:VEVENT
END:VCALENDAR