BEGIN:VCALENDAR
VERSION:2.0
PRODID:-//Bethlehem City Democratic Committee - ECPv6.15.20//NONSGML v1.0//EN
CALSCALE:GREGORIAN
METHOD:PUBLISH
X-WR-CALNAME:Bethlehem City Democratic Committee
X-ORIGINAL-URL:https://www.bethlehempadems.com
X-WR-CALDESC:Events for Bethlehem City Democratic Committee
REFRESH-INTERVAL;VALUE=DURATION:PT1H
X-Robots-Tag:noindex
X-PUBLISHED-TTL:PT1H
BEGIN:VTIMEZONE
TZID:America/New_York
BEGIN:DAYLIGHT
TZOFFSETFROM:-0500
TZOFFSETTO:-0400
TZNAME:EDT
DTSTART:20170312T070000
END:DAYLIGHT
BEGIN:STANDARD
TZOFFSETFROM:-0400
TZOFFSETTO:-0500
TZNAME:EST
DTSTART:20171105T060000
END:STANDARD
BEGIN:DAYLIGHT
TZOFFSETFROM:-0500
TZOFFSETTO:-0400
TZNAME:EDT
DTSTART:20180311T070000
END:DAYLIGHT
BEGIN:STANDARD
TZOFFSETFROM:-0400
TZOFFSETTO:-0500
TZNAME:EST
DTSTART:20181104T060000
END:STANDARD
BEGIN:DAYLIGHT
TZOFFSETFROM:-0500
TZOFFSETTO:-0400
TZNAME:EDT
DTSTART:20190310T070000
END:DAYLIGHT
BEGIN:STANDARD
TZOFFSETFROM:-0400
TZOFFSETTO:-0500
TZNAME:EST
DTSTART:20191103T060000
END:STANDARD
BEGIN:DAYLIGHT
TZOFFSETFROM:-0500
TZOFFSETTO:-0400
TZNAME:EDT
DTSTART:20200308T070000
END:DAYLIGHT
BEGIN:STANDARD
TZOFFSETFROM:-0400
TZOFFSETTO:-0500
TZNAME:EST
DTSTART:20201101T060000
END:STANDARD
BEGIN:DAYLIGHT
TZOFFSETFROM:-0500
TZOFFSETTO:-0400
TZNAME:EDT
DTSTART:20210314T070000
END:DAYLIGHT
BEGIN:STANDARD
TZOFFSETFROM:-0400
TZOFFSETTO:-0500
TZNAME:EST
DTSTART:20211107T060000
END:STANDARD
BEGIN:DAYLIGHT
TZOFFSETFROM:-0500
TZOFFSETTO:-0400
TZNAME:EDT
DTSTART:20220313T070000
END:DAYLIGHT
BEGIN:STANDARD
TZOFFSETFROM:-0400
TZOFFSETTO:-0500
TZNAME:EST
DTSTART:20221106T060000
END:STANDARD
BEGIN:DAYLIGHT
TZOFFSETFROM:-0500
TZOFFSETTO:-0400
TZNAME:EDT
DTSTART:20230312T070000
END:DAYLIGHT
BEGIN:STANDARD
TZOFFSETFROM:-0400
TZOFFSETTO:-0500
TZNAME:EST
DTSTART:20231105T060000
END:STANDARD
END:VTIMEZONE
BEGIN:VEVENT
DTSTART;TZID=America/New_York:20220226T110000
DTEND;TZID=America/New_York:20220226T140000
DTSTAMP:20260424T071658
CREATED:20220225T212434Z
LAST-MODIFIED:20220225T212549Z
UID:1274-1645873200-1645884000@www.bethlehempadems.com
SUMMARY:Sign For Susan (Petition Event)
DESCRIPTION:Petition signing event for Congresswoman Susan Wild … as well as other Democratic statewide candidates for Governor\, Lt. Governor\, U.S. Senate and more. (Note: Petitions for State Rep. and State Senator races will happen at a later date!) \nPetitioning was delayed and contracted due to redistricting here in Pennsylvania … we need your help to get these great candidates on the ballot this May! \nSign up HERE to help! \nOr stop by any time to sign available petitions!!
URL:https://www.bethlehempadems.com/event/sign-up-for-susan-petition-event/
LOCATION:Home of Megan Beste\, 345 9th Ave\, Bethlehem\, PA\, 18018\, United States
CATEGORIES:Candidate Event,Democratic Party Event
ATTACH;FMTTYPE=image/png:https://www.bethlehempadems.com/wp-content/uploads/2022/02/Sign-for-Susan-Bethlehem.png
END:VEVENT
BEGIN:VEVENT
DTSTART;TZID=America/New_York:20210720T173000
DTEND;TZID=America/New_York:20210720T193000
DTSTAMP:20260424T071658
CREATED:20210713T154233Z
LAST-MODIFIED:20210716T145215Z
UID:1149-1626802200-1626809400@www.bethlehempadems.com
SUMMARY:Cocktails & Conversation: Re-Elect Phil Armstrong
DESCRIPTION:Fundraiser for Lehigh County Executive Phil Armstrong’s re-election campaign.
URL:https://www.bethlehempadems.com/event/cocktails-conversation-re-elect-phil-armstrong/
LOCATION:Armstrong4Executive\, 3154 Brynwood Drive\, Whitehall\, PA\, 18052\, United States
CATEGORIES:Candidate Event
ATTACH;FMTTYPE=image/jpeg:https://www.bethlehempadems.com/wp-content/uploads/2021/07/Cocktails-for-Phil-Armstrong.jpg
ORGANIZER;CN="Armstrong4Executive":MAILTO:cdee@advantagepep.com
END:VEVENT
BEGIN:VEVENT
DTSTART;TZID=America/New_York:20200208T100000
DTEND;TZID=America/New_York:20200208T160000
DTSTAMP:20260424T071658
CREATED:20200115T192613Z
LAST-MODIFIED:20200124T154320Z
UID:998-1581156000-1581177600@www.bethlehempadems.com
SUMMARY:PA District 7 Petition Signing Event
DESCRIPTION:This is a co-sponsored event with our County Committees and Lehigh Valley 4 All … to be held at various location throughout the Lehigh Valley. Petitions for ALL DEMOCRATIC candidates for all local-election offices will be at each location. (The Bethlehem event will be at the United Steelworkers Hall … see below!) \nThis will be your first chance to support your favorite candidates (including our 2020 presidential slate)! \nFor more info\, contact Kathy Harrington at: kharrington@lehighdemocrats.com \nIncluding this Bethlehem Location\, there will be 8 LOCATIONS throughout District 7 where you will be able to sign petitions to support Democratic Primary candidates: \nIn Bethlehem: Steelworkers Union Hall\, 53 E Lehigh St. \nIn Allentown: IBEW Hall\, 101 S. 7th St. \nIn South Side Allentown: McDonalds\, 1432 4th St. \nIn Emmaus: Wesley Works\, 500 Chestnut St. \nIn Center Valley Lehigh: Barnes & Noble Starbucks\, 2960 Center Valley Pkwy \nIn Easton: Easton Dems Office\, 136 W. Saint Joseph St. \nIn Hanover Twnshp: Wegmans\, 500 Wegmans Dr. \nIn Bethlehem Twnshp: Dairy Queen\, 2910 Easton Ave.
URL:https://www.bethlehempadems.com/event/petition-signing-event/
LOCATION:United Steelworkers Union Hall\, 53 E. Lehigh St\,\, Bethlehem\, PA\, 18018\, United States
CATEGORIES:Candidate Event,Democratic Party Event
ATTACH;FMTTYPE=image/jpeg:https://www.bethlehempadems.com/wp-content/uploads/2019/10/steelworkers-hall-bethlehem.jpg
END:VEVENT
BEGIN:VEVENT
DTSTART;TZID=America/New_York:20200129T180000
DTEND;TZID=America/New_York:20200129T200000
DTSTAMP:20260424T071658
CREATED:20200115T193916Z
LAST-MODIFIED:20200124T153529Z
UID:1004-1580320800-1580328000@www.bethlehempadems.com
SUMMARY:NCDC Petition Signing Event
DESCRIPTION:Join your fellow Northampton County Democrats to help Democratic Candidates obtain the signatures they need to appear on the Spring Primary Ballot!
URL:https://www.bethlehempadems.com/event/ncdc-petition-signing-event/
LOCATION:Nazareth Diner\, 581 S Broad St\, Nazareth\, PA\, 18064\, United States
CATEGORIES:Candidate Event,Democratic Party Event
END:VEVENT
BEGIN:VEVENT
DTSTART;TZID=America/New_York:20200117T153000
DTEND;TZID=America/New_York:20200117T163000
DTSTAMP:20260424T071658
CREATED:20200115T193414Z
LAST-MODIFIED:20200115T193414Z
UID:1001-1579275000-1579278600@www.bethlehempadems.com
SUMMARY:Judge Kassis Swearing-In
DESCRIPTION:Join the newly elected Democratic judge\, Abe Kassis\, for his swearing in.
URL:https://www.bethlehempadems.com/event/judge-kassis-swearing-in/
LOCATION:Northampton County Courthouse\, 669 Washington St\,\, Easton\, PA\, 18042\, United States
CATEGORIES:Candidate Event
END:VEVENT
BEGIN:VEVENT
DTSTART;TZID=America/New_York:20191105T070000
DTEND;TZID=America/New_York:20191105T200000
DTSTAMP:20260424T071658
CREATED:20191015T154126Z
LAST-MODIFIED:20191015T154126Z
UID:947-1572937200-1572984000@www.bethlehempadems.com
SUMMARY:ELECTION DAY!!! (Municipal Elections for the City\, County and State))
DESCRIPTION:
URL:https://www.bethlehempadems.com/event/election-day-municipal-elections-for-the-city-county-and-state/
LOCATION:PA\, United States
CATEGORIES:Candidate Event,Democratic Party Event
END:VEVENT
BEGIN:VEVENT
DTSTART;TZID=America/New_York:20191103T090000
DTEND;TZID=America/New_York:20191103T200000
DTSTAMP:20260424T071658
CREATED:20191015T154805Z
LAST-MODIFIED:20191015T154805Z
UID:956-1572771600-1572811200@www.bethlehempadems.com
SUMMARY:2019 ELECTION GOTV EVENT (Bethlehem)
DESCRIPTION:Canvassing … CALLS … ALL DAY … staging from various locations throughout the Lehigh Valley!!\nBCDC will be staging from the United Steelworkers Union Hall (see below). \nTHIS IS OUR CHANCE TO SEND A MESSAGE IN ADVANCE OF 2020\, PEOPLE!! Let’s get DEMOCRATS out to the polls!!
URL:https://www.bethlehempadems.com/event/2019-election-gotv-event-bethlehem-4/
LOCATION:United Steelworkers Union Hall\, 53 E. Lehigh St\,\, Bethlehem\, PA\, 18018\, United States
CATEGORIES:Candidate Event,Democratic Party Event
END:VEVENT
BEGIN:VEVENT
DTSTART;TZID=America/New_York:20191102T090000
DTEND;TZID=America/New_York:20191102T200000
DTSTAMP:20260424T071658
CREATED:20191015T154731Z
LAST-MODIFIED:20191015T154731Z
UID:954-1572685200-1572724800@www.bethlehempadems.com
SUMMARY:2019 ELECTION GOTV EVENT (Bethlehem)
DESCRIPTION:Canvassing … CALLS … ALL DAY … staging from various locations throughout the Lehigh Valley!!\nBCDC will be staging from the United Steelworkers Union Hall (see below). \nTHIS IS OUR CHANCE TO SEND A MESSAGE IN ADVANCE OF 2020\, PEOPLE!! Let’s get DEMOCRATS out to the polls!!
URL:https://www.bethlehempadems.com/event/2019-election-gotv-event-bethlehem-3/
LOCATION:United Steelworkers Union Hall\, 53 E. Lehigh St\,\, Bethlehem\, PA\, 18018\, United States
CATEGORIES:Candidate Event,Democratic Party Event
END:VEVENT
BEGIN:VEVENT
DTSTART;TZID=America/New_York:20191027T090000
DTEND;TZID=America/New_York:20191027T200000
DTSTAMP:20260424T071658
CREATED:20191015T154654Z
LAST-MODIFIED:20191015T154654Z
UID:952-1572166800-1572206400@www.bethlehempadems.com
SUMMARY:2019 ELECTION GOTV EVENT (Bethlehem)
DESCRIPTION:Canvassing … CALLS … ALL DAY … staging from various locations throughout the Lehigh Valley!!\nBCDC will be staging from the United Steelworkers Union Hall (see below). \nTHIS IS OUR CHANCE TO SEND A MESSAGE IN ADVANCE OF 2020\, PEOPLE!! Let’s get DEMOCRATS out to the polls!!
URL:https://www.bethlehempadems.com/event/2019-election-gotv-event-bethlehem-2/
LOCATION:United Steelworkers Union Hall\, 53 E. Lehigh St\,\, Bethlehem\, PA\, 18018\, United States
CATEGORIES:Candidate Event,Democratic Party Event
END:VEVENT
BEGIN:VEVENT
DTSTART;TZID=America/New_York:20191026T090000
DTEND;TZID=America/New_York:20191026T200000
DTSTAMP:20260424T071658
CREATED:20191015T154617Z
LAST-MODIFIED:20191015T154617Z
UID:950-1572080400-1572120000@www.bethlehempadems.com
SUMMARY:2019 ELECTION GOTV EVENT (Bethlehem)
DESCRIPTION:Canvassing … CALLS … ALL DAY … staging from various locations throughout the Lehigh Valley!!\nBCDC will be staging from the United Steelworkers Union Hall (see below). \nTHIS IS OUR CHANCE TO SEND A MESSAGE IN ADVANCE OF 2020\, PEOPLE!! Let’s get DEMOCRATS out to the polls!!
URL:https://www.bethlehempadems.com/event/2019-election-gotv-event-bethlehem/
LOCATION:United Steelworkers Union Hall\, 53 E. Lehigh St\,\, Bethlehem\, PA\, 18018\, United States
CATEGORIES:Candidate Event,Democratic Party Event
END:VEVENT
BEGIN:VEVENT
DTSTART;TZID=America/New_York:20181106T090000
DTEND;TZID=America/New_York:20181106T200000
DTSTAMP:20260424T071658
CREATED:20181023T142444Z
LAST-MODIFIED:20181023T142503Z
UID:870-1541494800-1541534400@www.bethlehempadems.com
SUMMARY:ELECTION DAY!!! (GOTV Bethlehem)
DESCRIPTION:Canvassing … RIDES … CALLS … ALL DAY … staging from TWO locations!!\nYou can come to either the United Steelworkers Union Hall (see below)\, or the PA-7 DCCC Battlestation Headquarters at the Westgate Mall (2285 Schoenersville Rd.\, Suite 2359\, Bethlehem\, PA 18017). \nTHIS IS REALLY IT\, PEOPLE!! Let’s get people out to the polls!!
URL:https://www.bethlehempadems.com/event/election-day-gotv-bethlehem/
LOCATION:United Steelworkers Union Hall\, 53 E. Lehigh St\,\, Bethlehem\, PA\, 18018\, United States
CATEGORIES:Candidate Event,Democratic Party Event
ATTACH;FMTTYPE=image/jpeg:https://www.bethlehempadems.com/wp-content/uploads/2018/10/casey-wild-wolf.jpg
END:VEVENT
BEGIN:VEVENT
DTSTART;TZID=America/New_York:20181105T090000
DTEND;TZID=America/New_York:20181105T200000
DTSTAMP:20260424T071658
CREATED:20181023T141657Z
LAST-MODIFIED:20181023T141657Z
UID:868-1541408400-1541448000@www.bethlehempadems.com
SUMMARY:GOTV Canvass (Bethlehem)
DESCRIPTION:Canvassing ALL DAY … staging from TWO locations!!\nYou can come to either the United Steelworkers Union Hall (see below)\, or the PA-7 DCCC Battlestation Headquarters at the Westgate Mall (2285 Schoenersville Rd.\, Suite 2359\, Bethlehem\, PA 18017). \nTHIS IS IT\, PEOPLE!! Let’s get people out to the polls!!
URL:https://www.bethlehempadems.com/event/gotv-canvass-bethlehem-3/
LOCATION:United Steelworkers Union Hall\, 53 E. Lehigh St\,\, Bethlehem\, PA\, 18018\, United States
CATEGORIES:Candidate Event,Democratic Party Event
ATTACH;FMTTYPE=image/jpeg:https://www.bethlehempadems.com/wp-content/uploads/2018/10/casey-wild-wolf.jpg
END:VEVENT
BEGIN:VEVENT
DTSTART;TZID=America/New_York:20181104T120000
DTEND;TZID=America/New_York:20181104T200000
DTSTAMP:20260424T071658
CREATED:20181023T141435Z
LAST-MODIFIED:20181023T141742Z
UID:866-1541332800-1541361600@www.bethlehempadems.com
SUMMARY:GOTV Canvass (Bethlehem)
DESCRIPTION:Canvassing ALL DAY … staging from TWO locations!!\nYou can come to either the United Steelworkers Union Hall (see below)\, or the PA-7 DCCC Battlestation Headquarters at the Westgate Mall (2285 Schoenersville Rd.\, Suite 2359\, Bethlehem\, PA 18017). \nTHIS IS IT\, PEOPLE!! Let’s get people out to the polls!!
URL:https://www.bethlehempadems.com/event/gotv-canvass-bethlehem-2/
LOCATION:United Steelworkers Union Hall\, 53 E. Lehigh St\,\, Bethlehem\, PA\, 18018\, United States
CATEGORIES:Candidate Event,Democratic Party Event
ATTACH;FMTTYPE=image/jpeg:https://www.bethlehempadems.com/wp-content/uploads/2018/10/casey-wild-wolf.jpg
END:VEVENT
BEGIN:VEVENT
DTSTART;TZID=America/New_York:20181103T090000
DTEND;TZID=America/New_York:20181103T200000
DTSTAMP:20260424T071658
CREATED:20181023T141247Z
LAST-MODIFIED:20181023T141247Z
UID:864-1541235600-1541275200@www.bethlehempadems.com
SUMMARY:GOTV Canvass (Bethlehem)
DESCRIPTION:Canvassing ALL DAY … staging from TWO locations!!\nYou can come to either the United Steelworkers Union Hall (see below)\, or the PA-7 DCCC Battlestation Headquarters at the Westgate Mall (2285 Schoenersville Rd.\, Suite 2359\, Bethlehem\, PA 18017). \nTHIS IS IT\, PEOPLE!! Let’s get people out to the polls!!
URL:https://www.bethlehempadems.com/event/gotv-canvass-bethlehem/
LOCATION:United Steelworkers Union Hall\, 53 E. Lehigh St\,\, Bethlehem\, PA\, 18018\, United States
CATEGORIES:Candidate Event,Democratic Party Event
ATTACH;FMTTYPE=image/jpeg:https://www.bethlehempadems.com/wp-content/uploads/2018/10/casey-wild-wolf.jpg
END:VEVENT
BEGIN:VEVENT
DTSTART;TZID=America/New_York:20181030T170000
DTEND;TZID=America/New_York:20181030T190000
DTSTAMP:20260424T071658
CREATED:20181013T192817Z
LAST-MODIFIED:20181013T192817Z
UID:846-1540918800-1540926000@www.bethlehempadems.com
SUMMARY:Rally with Governor Wolf!!
DESCRIPTION:Join Governor Tom Wolf and International Brotherhood of Electrical Workers Local 375 in Allentown to bring our Democratic community TOGETHER!!
URL:https://www.bethlehempadems.com/event/rally-with-governor-wolf/
LOCATION:IBEW Local 375 in Allentown\, 101 S. 7th St.\, Allentown\, PA\, 18101\, United States
CATEGORIES:Candidate Event,Democratic Party Event
ATTACH;FMTTYPE=image/png:https://www.bethlehempadems.com/wp-content/uploads/2018/10/Wolf-Rally.png
END:VEVENT
BEGIN:VEVENT
DTSTART;TZID=America/New_York:20181028T120000
DTEND;TZID=America/New_York:20181028T180000
DTSTAMP:20260424T071658
CREATED:20181023T141014Z
LAST-MODIFIED:20181023T141822Z
UID:862-1540728000-1540749600@www.bethlehempadems.com
SUMMARY:GOTV Dry Run!! (Bethlehem)
DESCRIPTION:Canvassing ALL DAY … staging from TWO locations!!\nYou can come to either the United Steelworkers Union Hall (see below)\, or the PA-7 DCCC Battlestation Headquarters at the Westgate Mall (2285 Schoenersville Rd.\, Suite 2359\, Bethlehem\, PA 18017). \nTHIS IS IT\, PEOPLE!! Let’s get people out to the polls!!
URL:https://www.bethlehempadems.com/event/gotv-dry-run-bethlehem-4/
LOCATION:United Steelworkers Union Hall\, 53 E. Lehigh St\,\, Bethlehem\, PA\, 18018\, United States
CATEGORIES:Candidate Event,Democratic Party Event
ATTACH;FMTTYPE=image/jpeg:https://www.bethlehempadems.com/wp-content/uploads/2018/10/casey-wild-wolf.jpg
END:VEVENT
BEGIN:VEVENT
DTSTART;TZID=America/New_York:20181027T090000
DTEND;TZID=America/New_York:20181027T180000
DTSTAMP:20260424T071658
CREATED:20181023T140858Z
LAST-MODIFIED:20181023T140858Z
UID:860-1540630800-1540663200@www.bethlehempadems.com
SUMMARY:GOTV Dry Run!! (Bethlehem)
DESCRIPTION:Canvassing ALL DAY … staging from TWO locations!!\nYou can come to either the United Steelworkers Union Hall (see below)\, or the PA-7 DCCC Battlestation Headquarters at the Westgate Mall (2285 Schoenersville Rd.\, Suite 2359\, Bethlehem\, PA 18017). \nTHIS IS IT\, PEOPLE!! Let’s get people out to the polls!!
URL:https://www.bethlehempadems.com/event/gotv-dry-run-bethlehem-3/
LOCATION:United Steelworkers Union Hall\, 53 E. Lehigh St\,\, Bethlehem\, PA\, 18018\, United States
CATEGORIES:Candidate Event,Democratic Party Event
ATTACH;FMTTYPE=image/jpeg:https://www.bethlehempadems.com/wp-content/uploads/2018/10/casey-wild-wolf.jpg
END:VEVENT
BEGIN:VEVENT
DTSTART;TZID=America/New_York:20181021T120000
DTEND;TZID=America/New_York:20181021T180000
DTSTAMP:20260424T071658
CREATED:20181023T140717Z
LAST-MODIFIED:20181023T142148Z
UID:858-1540123200-1540144800@www.bethlehempadems.com
SUMMARY:GOTV Dry Run!! (Bethlehem)
DESCRIPTION:Canvassing ALL DAY … staging from TWO locations!!\nYou can come to either the United Steelworkers Union Hall (see below)\, or the PA-7 DCCC Battlestation Headquarters at the Westgate Mall (2285 Schoenersville Rd.\, Suite 2359\, Bethlehem\, PA 18017). \nTHIS IS IT\, PEOPLE!! Let’s get people out to the polls!!
URL:https://www.bethlehempadems.com/event/gotv-dry-run-bethlehem-2/
LOCATION:United Steelworkers Union Hall\, 53 E. Lehigh St\,\, Bethlehem\, PA\, 18018\, United States
CATEGORIES:Candidate Event,Democratic Party Event
ATTACH;FMTTYPE=image/jpeg:https://www.bethlehempadems.com/wp-content/uploads/2018/10/casey-wild-wolf.jpg
END:VEVENT
BEGIN:VEVENT
DTSTART;TZID=America/New_York:20181020T090000
DTEND;TZID=America/New_York:20181020T180000
DTSTAMP:20260424T071658
CREATED:20181023T140419Z
LAST-MODIFIED:20181023T140419Z
UID:853-1540026000-1540058400@www.bethlehempadems.com
SUMMARY:GOTV Dry Run!! (Bethlehem)
DESCRIPTION:Canvassing ALL DAY … staging from TWO locations!!\nYou can come to either the United Steelworkers Union Hall (see below)\, or the PA-7 DCCC Battlestation Headquarters at the Westgate Mall (2285 Schoenersville Rd.\, Suite 2359\, Bethlehem\, PA 18017). \nTHIS IS IT\, PEOPLE!! Let’s get people out to the polls!!
URL:https://www.bethlehempadems.com/event/gotv-dry-run-bethlehem/
LOCATION:United Steelworkers Union Hall\, 53 E. Lehigh St\,\, Bethlehem\, PA\, 18018\, United States
CATEGORIES:Candidate Event,Democratic Party Event
ATTACH;FMTTYPE=image/jpeg:https://www.bethlehempadems.com/wp-content/uploads/2018/10/casey-wild-wolf.jpg
END:VEVENT
BEGIN:VEVENT
DTSTART;TZID=America/New_York:20181015T170000
DTEND;TZID=America/New_York:20181015T200000
DTSTAMP:20260424T071658
CREATED:20181010T170852Z
LAST-MODIFIED:20181010T170852Z
UID:844-1539622800-1539633600@www.bethlehempadems.com
SUMMARY:Wild For Congress Phone Bank & Canvass (Bethlehem)
DESCRIPTION:Sign up with the event URL below!!\n(or just stop on by to help)
URL:https://www.bethlehempadems.com/event/wild-for-congress-phone-bank-canvass-bethlehem-19/
LOCATION:PA-07 DCCC Battlestation HQ\, 2285 Schoenersville Rd.\, Suite 2359\, Bethlehem\, PA\, 18017\, United States
CATEGORIES:Candidate Event
ATTACH;FMTTYPE=image/jpeg:https://www.bethlehempadems.com/wp-content/uploads/2018/07/susan-wild.jpg
END:VEVENT
BEGIN:VEVENT
DTSTART;TZID=America/New_York:20181014T090000
DTEND;TZID=America/New_York:20181014T200000
DTSTAMP:20260424T071658
CREATED:20181006T002437Z
LAST-MODIFIED:20181010T170332Z
UID:835-1539507600-1539547200@www.bethlehempadems.com
SUMMARY:Canvass for Wild for Congress (Bethlehem)
DESCRIPTION:Three shifts!\n9am-12noon | 1pm-4pm | 5pm-8pm \nSign up with the event URL below!!
URL:https://www.bethlehempadems.com/event/canvass-for-wild-for-congress-bethlehem-3/
LOCATION:PA-07 DCCC Battlestation HQ\, 2285 Schoenersville Rd.\, Suite 2359\, Bethlehem\, PA\, 18017\, United States
CATEGORIES:Candidate Event
ATTACH;FMTTYPE=image/jpeg:https://www.bethlehempadems.com/wp-content/uploads/2018/07/susan-wild.jpg
END:VEVENT
BEGIN:VEVENT
DTSTART;TZID=America/New_York:20181013T090000
DTEND;TZID=America/New_York:20181013T200000
DTSTAMP:20260424T071658
CREATED:20181006T002120Z
LAST-MODIFIED:20181010T170207Z
UID:832-1539421200-1539460800@www.bethlehempadems.com
SUMMARY:Canvass for Wild for Congress (Bethlehem)
DESCRIPTION:Three shifts!\n9am-12noon | 1pm-4pm | 5pm-8pm \nSpecial Guest!\nSenator Bob Casey will be stopping by to rally volunteers at 11am!!\nSign up with the event URL below!!
URL:https://www.bethlehempadems.com/event/canvass-for-wild-for-congress-bethlehem-2/
LOCATION:PA-07 DCCC Battlestation HQ\, 2285 Schoenersville Rd.\, Suite 2359\, Bethlehem\, PA\, 18017\, United States
CATEGORIES:Candidate Event
ATTACH;FMTTYPE=image/jpeg:https://www.bethlehempadems.com/wp-content/uploads/2018/07/susan-wild.jpg
END:VEVENT
BEGIN:VEVENT
DTSTART;TZID=America/New_York:20181008T170000
DTEND;TZID=America/New_York:20181008T200000
DTSTAMP:20260424T071658
CREATED:20181006T002623Z
LAST-MODIFIED:20181006T002623Z
UID:837-1539018000-1539028800@www.bethlehempadems.com
SUMMARY:Wild For Congress Phone Bank & Canvass (Bethlehem)
DESCRIPTION:
URL:https://www.bethlehempadems.com/event/wild-for-congress-phone-bank-canvass-bethlehem-18/
LOCATION:PA-07 DCCC Battlestation HQ\, 2285 Schoenersville Rd.\, Suite 2359\, Bethlehem\, PA\, 18017\, United States
CATEGORIES:Candidate Event
ATTACH;FMTTYPE=image/jpeg:https://www.bethlehempadems.com/wp-content/uploads/2018/07/susan-wild.jpg
END:VEVENT
BEGIN:VEVENT
DTSTART;TZID=America/New_York:20181007T090000
DTEND;TZID=America/New_York:20181007T200000
DTSTAMP:20260424T071658
CREATED:20181006T002001Z
LAST-MODIFIED:20181006T002001Z
UID:830-1538902800-1538942400@www.bethlehempadems.com
SUMMARY:Canvass for Wild for Congress
DESCRIPTION:Three shifts!\n9am-12noon | 1pm-4pm | 5pm-8pm
URL:https://www.bethlehempadems.com/event/canvass-for-wild-for-congress/
LOCATION:PA-07 DCCC Battlestation HQ\, 2285 Schoenersville Rd.\, Suite 2359\, Bethlehem\, PA\, 18017\, United States
CATEGORIES:Candidate Event
ATTACH;FMTTYPE=image/jpeg:https://www.bethlehempadems.com/wp-content/uploads/2018/07/susan-wild.jpg
END:VEVENT
BEGIN:VEVENT
DTSTART;TZID=America/New_York:20181006T140000
DTEND;TZID=America/New_York:20181006T153000
DTSTAMP:20260424T071658
CREATED:20180912T200632Z
LAST-MODIFIED:20210201T163107Z
UID:792-1538834400-1538839800@www.bethlehempadems.com
SUMMARY:Susan Wild Meet & Greet at the Mint!
DESCRIPTION:LAST MINUTE ADDITION TO THE EVENT!! \nNY State Democratic Congressman\nHAKEEM JEFFRIES will be joining\nSusan Wild at the Mint!\nBE THERE!!
URL:https://www.bethlehempadems.com/event/susan-wild-meet-greet-at-the-mint/
LOCATION:Mint Gastropub\, 1223 W Broad St.\, Bethlehem\, PA\, 18018\, United States
CATEGORIES:Candidate Event,Fundraising Events
ATTACH;FMTTYPE=image/jpeg:https://www.bethlehempadems.com/wp-content/uploads/2018/09/Mint-Fundraiser.jpg
ORGANIZER;CN="Megan Beste & Brooke McDermott":MAILTO:megan.beste@gmail.com
END:VEVENT
BEGIN:VEVENT
DTSTART;TZID=America/New_York:20181006T090000
DTEND;TZID=America/New_York:20181006T200000
DTSTAMP:20260424T071658
CREATED:20181006T001832Z
LAST-MODIFIED:20181006T001832Z
UID:828-1538816400-1538856000@www.bethlehempadems.com
SUMMARY:Canvass for Wild for Congress (Bethlehem)
DESCRIPTION:Three shifts!\n9am-12noon | 1pm-4pm | 5pm-8pm
URL:https://www.bethlehempadems.com/event/canvass-for-wild-for-congress-bethlehem/
LOCATION:PA-07 DCCC Battlestation HQ\, 2285 Schoenersville Rd.\, Suite 2359\, Bethlehem\, PA\, 18017\, United States
CATEGORIES:Candidate Event
ATTACH;FMTTYPE=image/jpeg:https://www.bethlehempadems.com/wp-content/uploads/2018/07/susan-wild.jpg
END:VEVENT
BEGIN:VEVENT
DTSTART;TZID=America/New_York:20181001T170000
DTEND;TZID=America/New_York:20181001T200000
DTSTAMP:20260424T071658
CREATED:20180912T201251Z
LAST-MODIFIED:20180912T201703Z
UID:796-1538413200-1538424000@www.bethlehempadems.com
SUMMARY:Wild For Congress Phone Bank & Canvass (Bethlehem)
DESCRIPTION:
URL:https://www.bethlehempadems.com/event/wild-for-congress-phone-bank-canvass-3/
LOCATION:PA-07 DCCC Battlestation HQ\, 2285 Schoenersville Rd.\, Suite 2359\, Bethlehem\, PA\, 18017\, United States
CATEGORIES:Candidate Event
ATTACH;FMTTYPE=image/jpeg:https://www.bethlehempadems.com/wp-content/uploads/2018/07/susan-wild.jpg
END:VEVENT
BEGIN:VEVENT
DTSTART;TZID=America/New_York:20180930T090000
DTEND;TZID=America/New_York:20180930T200000
DTSTAMP:20260424T071658
CREATED:20180912T201550Z
LAST-MODIFIED:20180912T201550Z
UID:800-1538298000-1538337600@www.bethlehempadems.com
SUMMARY:Wild for Congress Phone Bank & Canvass (Bethlehem)
DESCRIPTION:Three shifts!\n9am-12noon | 1pm-4pm | 5pm-8pm
URL:https://www.bethlehempadems.com/event/wild-for-congress-phone-bank-canvass-bethlehem-17/
LOCATION:PA-07 DCCC Battlestation HQ\, 2285 Schoenersville Rd.\, Suite 2359\, Bethlehem\, PA\, 18017\, United States
CATEGORIES:Candidate Event
ATTACH;FMTTYPE=image/jpeg:https://www.bethlehempadems.com/wp-content/uploads/2018/07/susan-wild.jpg
END:VEVENT
BEGIN:VEVENT
DTSTART;TZID=America/New_York:20180929T090000
DTEND;TZID=America/New_York:20180929T200000
DTSTAMP:20260424T071658
CREATED:20180912T201427Z
LAST-MODIFIED:20180912T201427Z
UID:798-1538211600-1538251200@www.bethlehempadems.com
SUMMARY:Wild for Congress Phone Bank & Canvass (Bethlehem)
DESCRIPTION:Three shifts!\n9am-12noon | 1pm-4pm | 5pm-8pm
URL:https://www.bethlehempadems.com/event/wild-for-congress-phone-bank-canvass-bethlehem-16/
LOCATION:PA-07 DCCC Battlestation HQ\, 2285 Schoenersville Rd.\, Suite 2359\, Bethlehem\, PA\, 18017\, United States
CATEGORIES:Candidate Event
ATTACH;FMTTYPE=image/jpeg:https://www.bethlehempadems.com/wp-content/uploads/2018/07/susan-wild.jpg
END:VEVENT
BEGIN:VEVENT
DTSTART;TZID=America/New_York:20180926T170000
DTEND;TZID=America/New_York:20180926T200000
DTSTAMP:20260424T071658
CREATED:20180912T194641Z
LAST-MODIFIED:20180912T194641Z
UID:783-1537981200-1537992000@www.bethlehempadems.com
SUMMARY:Wild Woman Wednesdays (Allentown)
DESCRIPTION:
URL:https://www.bethlehempadems.com/event/wild-woman-wednesdays-allentown/
LOCATION:Wild for Congress Allentown Field Office\, 1122 W. Hamilton St.\, Allentown\, PA\, 18101\, United States
CATEGORIES:Candidate Event
ATTACH;FMTTYPE=image/jpeg:https://www.bethlehempadems.com/wp-content/uploads/2018/07/susan-wild.jpg
END:VEVENT
END:VCALENDAR