BEGIN:VCALENDAR
VERSION:2.0
PRODID:-//Bethlehem City Democratic Committee - ECPv6.15.20//NONSGML v1.0//EN
CALSCALE:GREGORIAN
METHOD:PUBLISH
X-WR-CALNAME:Bethlehem City Democratic Committee
X-ORIGINAL-URL:https://www.bethlehempadems.com
X-WR-CALDESC:Events for Bethlehem City Democratic Committee
REFRESH-INTERVAL;VALUE=DURATION:PT1H
X-Robots-Tag:noindex
X-PUBLISHED-TTL:PT1H
BEGIN:VTIMEZONE
TZID:America/New_York
BEGIN:DAYLIGHT
TZOFFSETFROM:-0500
TZOFFSETTO:-0400
TZNAME:EDT
DTSTART:20170312T070000
END:DAYLIGHT
BEGIN:STANDARD
TZOFFSETFROM:-0400
TZOFFSETTO:-0500
TZNAME:EST
DTSTART:20171105T060000
END:STANDARD
BEGIN:DAYLIGHT
TZOFFSETFROM:-0500
TZOFFSETTO:-0400
TZNAME:EDT
DTSTART:20180311T070000
END:DAYLIGHT
BEGIN:STANDARD
TZOFFSETFROM:-0400
TZOFFSETTO:-0500
TZNAME:EST
DTSTART:20181104T060000
END:STANDARD
BEGIN:DAYLIGHT
TZOFFSETFROM:-0500
TZOFFSETTO:-0400
TZNAME:EDT
DTSTART:20190310T070000
END:DAYLIGHT
BEGIN:STANDARD
TZOFFSETFROM:-0400
TZOFFSETTO:-0500
TZNAME:EST
DTSTART:20191103T060000
END:STANDARD
END:VTIMEZONE
BEGIN:VEVENT
DTSTART;TZID=America/New_York:20180819T120000
DTEND;TZID=America/New_York:20180819T200000
DTSTAMP:20260424T181723
CREATED:20180810T151428Z
LAST-MODIFIED:20180810T151428Z
UID:649-1534680000-1534708800@www.bethlehempadems.com
SUMMARY:Wild for Congress Phone Bank & Canvass (Bethlehem)
DESCRIPTION:Three Shifts!\n12pm-2pm\n2-pm-5pm\n5pm-8pm
URL:https://www.bethlehempadems.com/event/wild-for-congress-phone-bank-canvass-bethlehem-2/
LOCATION:PA-07 DCCC Battlestation HQ\, 2285 Schoenersville Rd.\, Suite 2359\, Bethlehem\, PA\, 18017\, United States
CATEGORIES:Candidate Event
ATTACH;FMTTYPE=image/jpeg:https://www.bethlehempadems.com/wp-content/uploads/2018/07/susan-wild.jpg
END:VEVENT
BEGIN:VEVENT
DTSTART;TZID=America/New_York:20180818T110000
DTEND;TZID=America/New_York:20180818T200000
DTSTAMP:20260424T181723
CREATED:20180810T151245Z
LAST-MODIFIED:20180810T151245Z
UID:647-1534590000-1534622400@www.bethlehempadems.com
SUMMARY:Wild for Congress Phone Bank & Canvass (Bethlehem)
DESCRIPTION:Three Shifts!\n11am-2pm\n2pm-5pm\n5pm-8pm
URL:https://www.bethlehempadems.com/event/wild-for-congress-phone-bank-canvass-bethlehem/
LOCATION:PA-07 DCCC Battlestation HQ\, 2285 Schoenersville Rd.\, Suite 2359\, Bethlehem\, PA\, 18017\, United States
CATEGORIES:Candidate Event
ATTACH;FMTTYPE=image/jpeg:https://www.bethlehempadems.com/wp-content/uploads/2018/07/susan-wild.jpg
END:VEVENT
BEGIN:VEVENT
DTSTART;TZID=America/New_York:20180818T110000
DTEND;TZID=America/New_York:20180818T130000
DTSTAMP:20260424T181723
CREATED:20180810T142705Z
LAST-MODIFIED:20180812T021443Z
UID:625-1534590000-1534597200@www.bethlehempadems.com
SUMMARY:Voter Registration (Allentown)
DESCRIPTION:
URL:https://www.bethlehempadems.com/event/voter-registration-at-the-parade/
LOCATION:Downtown Allentown\, 435 Hamilton St.\, Allentown\, PA\, 18101\, United States
CATEGORIES:Candidate Event
ATTACH;FMTTYPE=image/jpeg:https://www.bethlehempadems.com/wp-content/uploads/2018/07/susan-wild.jpg
END:VEVENT
BEGIN:VEVENT
DTSTART;TZID=America/New_York:20180818T100000
DTEND;TZID=America/New_York:20180818T190000
DTSTAMP:20260424T181723
CREATED:20180810T151010Z
LAST-MODIFIED:20180810T151010Z
UID:645-1534586400-1534618800@www.bethlehempadems.com
SUMMARY:Wild for Congress Phone Bank & Canvass (Easton)
DESCRIPTION:Three Shifts!\n10am-1pm\n1pm-4pm\n4pm-7pm
URL:https://www.bethlehempadems.com/event/wild-for-congress-phone-bank-canvass-easton/
LOCATION:Easton Phone Bank & Canvass\, 91 Larry Holmes Dr.\, Easton\, PA\, 18042\, United States
CATEGORIES:Candidate Event
ATTACH;FMTTYPE=image/jpeg:https://www.bethlehempadems.com/wp-content/uploads/2018/07/susan-wild.jpg
END:VEVENT
BEGIN:VEVENT
DTSTART;TZID=America/New_York:20180816T170000
DTEND;TZID=America/New_York:20180816T190000
DTSTAMP:20260424T181723
CREATED:20180810T144442Z
LAST-MODIFIED:20180810T144641Z
UID:635-1534438800-1534446000@www.bethlehempadems.com
SUMMARY:Wild For Congress Phone Bank (Lower Macungie)
DESCRIPTION:
URL:https://www.bethlehempadems.com/event/phone-bank-wild-for-congress-2/
LOCATION:Lower Macungie Phone Bank\, 6864 Crown Ct.\, Macungie\, PA\, 18062\, United States
CATEGORIES:Candidate Event
ATTACH;FMTTYPE=image/jpeg:https://www.bethlehempadems.com/wp-content/uploads/2018/07/susan-wild.jpg
END:VEVENT
BEGIN:VEVENT
DTSTART;TZID=America/New_York:20180815T070000
DTEND;TZID=America/New_York:20180815T220000
DTSTAMP:20260424T181723
CREATED:20180811T214215Z
LAST-MODIFIED:20180811T214215Z
UID:655-1534316400-1534370400@www.bethlehempadems.com
SUMMARY:Strike Out Concert Night
DESCRIPTION:A Benefit raising money for Amy Cozze’s run for State Representative in the PA-137th District.
URL:https://www.bethlehempadems.com/event/strike-out-concert-night/
LOCATION:Coca Cola Park\, 1050 Iron Pigs Way\, Allentown\, PA\, 18109\, United States
CATEGORIES:Candidate Event,Fundraising Events
ATTACH;FMTTYPE=image/jpeg:https://www.bethlehempadems.com/wp-content/uploads/2018/08/Strike-Out-Cancer.jpg
ORGANIZER;CN="Amy Cozze for State Representative":MAILTO:amycozzeevents@gmail.com
END:VEVENT
BEGIN:VEVENT
DTSTART;TZID=America/New_York:20180813T170000
DTEND;TZID=America/New_York:20180813T200000
DTSTAMP:20260424T181723
CREATED:20180810T144248Z
LAST-MODIFIED:20180810T144823Z
UID:633-1534179600-1534190400@www.bethlehempadems.com
SUMMARY:Wild for Congress Phone Bank (Bethlehem)
DESCRIPTION:
URL:https://www.bethlehempadems.com/event/phone-bank-wild-for-congress/
LOCATION:PA-07 DCCC Battlestation HQ\, 2285 Schoenersville Rd.\, Suite 2359\, Bethlehem\, PA\, 18017\, United States
CATEGORIES:Candidate Event
ATTACH;FMTTYPE=image/jpeg:https://www.bethlehempadems.com/wp-content/uploads/2018/07/susan-wild.jpg
END:VEVENT
BEGIN:VEVENT
DTSTART;TZID=America/New_York:20180813T170000
DTEND;TZID=America/New_York:20180813T200000
DTSTAMP:20260424T181723
CREATED:20180810T144050Z
LAST-MODIFIED:20180810T144925Z
UID:631-1534179600-1534190400@www.bethlehempadems.com
SUMMARY:Wild for Congress Canvassing (Allentown)
DESCRIPTION:
URL:https://www.bethlehempadems.com/event/canvass-wild-for-congress/
LOCATION:Wild for Congress Allentown Office\, 1122 Hamilton St.\, Allentown\, PA\, 18102\, United States
CATEGORIES:Candidate Event
ATTACH;FMTTYPE=image/jpeg:https://www.bethlehempadems.com/wp-content/uploads/2018/07/susan-wild.jpg
END:VEVENT
BEGIN:VEVENT
DTSTART;TZID=America/New_York:20180812T120000
DTEND;TZID=America/New_York:20180812T200000
DTSTAMP:20260424T181723
CREATED:20180810T143701Z
LAST-MODIFIED:20180811T204143Z
UID:629-1534075200-1534104000@www.bethlehempadems.com
SUMMARY:Wild for Congress Phone Bank & Canvass (Bethlehem)
DESCRIPTION:Three Shifts!\n12pm-2pm\n2pm-5pm\n5pm-8pm
URL:https://www.bethlehempadems.com/event/phone-bank-canvass-wild-for-congress/
LOCATION:PA-07 DCCC Battlestation HQ\, 2285 Schoenersville Rd.\, Suite 2359\, Bethlehem\, PA\, 18017\, United States
CATEGORIES:Candidate Event
ATTACH;FMTTYPE=image/jpeg:https://www.bethlehempadems.com/wp-content/uploads/2018/07/susan-wild.jpg
END:VEVENT
BEGIN:VEVENT
DTSTART;TZID=America/New_York:20180811T110000
DTEND;TZID=America/New_York:20180811T200000
DTSTAMP:20260424T181723
CREATED:20180810T143215Z
LAST-MODIFIED:20180810T145433Z
UID:627-1533985200-1534017600@www.bethlehempadems.com
SUMMARY:Wild for Congress Phone Bank & Canvass (Bethlehem)
DESCRIPTION:Three Shifts!!\n11am-2pm\n2pm-5pm\n5pm-8pm
URL:https://www.bethlehempadems.com/event/phone-bank-and-canvass-wild-for-congress-2/
LOCATION:PA-07 DCCC Battlestation HQ\, 2285 Schoenersville Rd.\, Suite 2359\, Bethlehem\, PA\, 18017\, United States
CATEGORIES:Candidate Event
ATTACH;FMTTYPE=image/jpeg:https://www.bethlehempadems.com/wp-content/uploads/2018/07/susan-wild.jpg
END:VEVENT
BEGIN:VEVENT
DTSTART;TZID=America/New_York:20180811T110000
DTEND;TZID=America/New_York:20180811T170000
DTSTAMP:20260424T181723
CREATED:20180810T142504Z
LAST-MODIFIED:20180810T145223Z
UID:619-1533985200-1534006800@www.bethlehempadems.com
SUMMARY:Wild for Congress Phone Bank & Canvass (Allentown)
DESCRIPTION:Two shifts!\n11am to 2pm\n2pm-5pm
URL:https://www.bethlehempadems.com/event/phone-bank-and-canvass-wild-for-congress/
LOCATION:The Miller’s\, 855 N 38th St.\, Allentown\, PA\, 18104\, United States
CATEGORIES:Candidate Event
ATTACH;FMTTYPE=image/jpeg:https://www.bethlehempadems.com/wp-content/uploads/2018/07/susan-wild.jpg
END:VEVENT
BEGIN:VEVENT
DTSTART;TZID=America/New_York:20180728T120000
DTEND;TZID=America/New_York:20180728T140000
DTSTAMP:20260424T181723
CREATED:20180723T135023Z
LAST-MODIFIED:20180723T135143Z
UID:378-1532779200-1532786400@www.bethlehempadems.com
SUMMARY:Opening of PA Dems Allentown HQ
DESCRIPTION:Mark Pinsley for State Senate is opening his office and the regional office for the Casey\, Wolf\, Fetterman team with his fellow running mates. \nJoin Us to hear from and meet Mark and Sen. Casey and join the regional campaign for canvassing and calls after the event. \nOpen to all members of the public.
URL:https://www.bethlehempadems.com/event/378/
LOCATION:Allentown Regional HQ\, 3900 Hamilton Blvd\, Suite #101\, Allentown\, PA\, 18101\, United States
CATEGORIES:Candidate Event
ATTACH;FMTTYPE=image/jpeg:https://www.bethlehempadems.com/wp-content/uploads/2018/07/jointhedems-allentown_opening.jpg
END:VEVENT
BEGIN:VEVENT
DTSTART;TZID=America/New_York:20180721T100000
DTEND;TZID=America/New_York:20180721T100000
DTSTAMP:20260424T181723
CREATED:20180720T182307Z
LAST-MODIFIED:20180819T024546Z
UID:337-1532167200-1532167200@www.bethlehempadems.com
SUMMARY:PA-07 DCCC Battlestation HQ Grand Opening
DESCRIPTION:Susan Wild for Congress\nJoin us this Saturday\, July 21st\, for the Grand Opening of the PA-07 DCCC Battlestation HQ! \nwith Special Guest Congressman Brendan F. Boyle (PA-13)! \nFestivities begin at 10am\nPhone bank and Canvass at 12 PM \nFeel free to bring your family to our kid-friendly office! \n~ Refreshments will be served ~
URL:https://www.bethlehempadems.com/event/pa-07-dccc-battlestation-hq-grand-opening/
LOCATION:PA
CATEGORIES:Candidate Event
ATTACH;FMTTYPE=image/jpeg:https://www.bethlehempadems.com/wp-content/uploads/2018/07/susan-wild.jpg
END:VEVENT
END:VCALENDAR